BEGIN:VCALENDAR
VERSION:2.0
PRODID:-//The Piedmont Virginian - ECPv5.3.2.1//NONSGML v1.0//EN
CALSCALE:GREGORIAN
METHOD:PUBLISH
X-WR-CALNAME:The Piedmont Virginian
X-ORIGINAL-URL:https://piedmontvirginian.com
X-WR-CALDESC:Events for The Piedmont Virginian
BEGIN:VTIMEZONE
TZID:America/New_York
BEGIN:DAYLIGHT
TZOFFSETFROM:-0500
TZOFFSETTO:-0400
TZNAME:EDT
DTSTART:20180311T070000
END:DAYLIGHT
BEGIN:STANDARD
TZOFFSETFROM:-0400
TZOFFSETTO:-0500
TZNAME:EST
DTSTART:20181104T060000
END:STANDARD
END:VTIMEZONE
BEGIN:VEVENT
DTSTART;TZID=America/New_York:20180810T190000
DTEND;TZID=America/New_York:20180810T210000
DTSTAMP:20260421T124721
CREATED:20180801T183558Z
LAST-MODIFIED:20180801T183558Z
UID:25870-1533927600-1533934800@piedmontvirginian.com
SUMMARY:1927 SOCIETY CONCERT: MALPASS BROTHERS
DESCRIPTION:The Birthplace of Country Music proudly presents a very special 1927 Society Concert experience with The Malpass Brothers.The 1927 Society Concert Series is an intimate concert experience set in the “acoustically perfect” Performance Theater at the Birthplace of Country Music Museum. It’s more than a night of music\, it’s a very personal event with some of the most renowned roots music artists performing today. Guests are asked to arrive promptly at 6:00 p.m. to enjoy catering and adult beverages (for ages 21+ with valid ID) before the show\, included with ticket.
URL:https://piedmontvirginian.com/event/1927-society-concert-malpass-brothers/
LOCATION:Birthplace of Country Music Museum\, 520 Birthplace of Country Music Way\, Bristol\, 24201
CATEGORIES:@ Piedmont Virginian
ATTACH;FMTTYPE=image/jpeg:https://piedmontvirginian.com/wp-content/uploads/2018/07/malpass-brothers-picture.jpg
END:VEVENT
END:VCALENDAR