BEGIN:VCALENDAR
VERSION:2.0
PRODID:-//The Piedmont Virginian - ECPv5.3.2.1//NONSGML v1.0//EN
CALSCALE:GREGORIAN
METHOD:PUBLISH
X-WR-CALNAME:The Piedmont Virginian
X-ORIGINAL-URL:https://piedmontvirginian.com
X-WR-CALDESC:Events for The Piedmont Virginian
BEGIN:VTIMEZONE
TZID:America/New_York
BEGIN:DAYLIGHT
TZOFFSETFROM:-0500
TZOFFSETTO:-0400
TZNAME:EDT
DTSTART:20160313T070000
END:DAYLIGHT
BEGIN:STANDARD
TZOFFSETFROM:-0400
TZOFFSETTO:-0500
TZNAME:EST
DTSTART:20161106T060000
END:STANDARD
END:VTIMEZONE
BEGIN:VEVENT
DTSTART;TZID=America/New_York:20161007T170000
DTEND;TZID=America/New_York:20161009T170000
DTSTAMP:20260419T160439
CREATED:20160718T185530Z
LAST-MODIFIED:20160718T185530Z
UID:14120-1475859600-1476032400@piedmontvirginian.com
SUMMARY:19th Annual Conference on the Art of Command in the Civil War
DESCRIPTION:The region’s premier Civil War Conference\, now in its 19th year. Focus this year will be “July 3\, 1863: Gettysburg\, the Third Day.” Three-day long conference\, concluding with a bus tour of Gettysburg with expert guides\, authors\, historians.
URL:https://piedmontvirginian.com/event/19th-annual-conference-on-the-art-of-command-in-the-civil-war/
LOCATION:Middleburg Community Center\, 300 W. Washington St.\, Middleburg\, 20117
CATEGORIES:@ Piedmont Virginian,History and Heritage
ATTACH;FMTTYPE=image/jpeg:https://piedmontvirginian.com/wp-content/uploads/2016/07/Antietam-Field-Trip-with-MHAA-Garry-Adelman-November-20-2010-025.jpg
END:VEVENT
END:VCALENDAR