BEGIN:VCALENDAR
VERSION:2.0
PRODID:-//The Piedmont Virginian - ECPv5.3.2.1//NONSGML v1.0//EN
CALSCALE:GREGORIAN
METHOD:PUBLISH
X-WR-CALNAME:The Piedmont Virginian
X-ORIGINAL-URL:https://piedmontvirginian.com
X-WR-CALDESC:Events for The Piedmont Virginian
BEGIN:VTIMEZONE
TZID:America/New_York
BEGIN:DAYLIGHT
TZOFFSETFROM:-0500
TZOFFSETTO:-0400
TZNAME:EDT
DTSTART:20180311T070000
END:DAYLIGHT
BEGIN:STANDARD
TZOFFSETFROM:-0400
TZOFFSETTO:-0500
TZNAME:EST
DTSTART:20181104T060000
END:STANDARD
END:VTIMEZONE
BEGIN:VEVENT
DTSTART;VALUE=DATE:20180518
DTEND;VALUE=DATE:20180521
DTSTAMP:20260421T090133
CREATED:20180514T205708Z
LAST-MODIFIED:20180514T205708Z
UID:25570-1526601600-1526860799@piedmontvirginian.com
SUMMARY:19th Annual Lucketts Spring Market
DESCRIPTION:For Immediate Release Contact: Dianne Murphy\nDiannem.murphy@gmail.com\n(703) 927-0394 \n19th ANNUAL LUCKETTS SPRING MARKET IS READY TO ROCK CLARKE COUNTY FAIRGROUND \nDIY Network’s Salvage Dawgs will be part of the event May 18 – 19\, 2018 \nLucketts\, VA – Lucketts Spring Market is pleased to announce the dates for the 19th annual event as May 18 – 20 at the Clarke County Fairgrounds in Berryville\, VA. The wildly popular Northern Virginia event showcases more than 200 of the best “vintage hip” vendors on the East Coast. This year the popular DIY network show Salvage Dawgs hosts Mike Whiteside and Robert Kulp will be at the market with products and opportunities to connect with fans. \nThe weekend long event features painted furniture\, vintage garden gems\, architectural salvage\, crusty antiques\, vintage clothing and all kinds of crazy-good finds. To round out the experience and the weekend\, visitors will enjoy live music\, Vanish Brewery beer garden\, old school children’s play area\, enticing food trucks\, and as well as an engaging shopping weekend. Another huge favorite in Clarke County is the World Famous Ruritan Chicken Dinners available all weekend. \nLucketts store is known as a destination for all things vintage\, and this weekend promises to highlight some of the best of the best. The list includes: \n• Ekster Antiques\n• Olde Tyme Marketplace\n• Plum Pretty Décor\n• Carolina Chic Salvage\n• Gracie James Clothing\n• JBS Mercantile\n• Naked Goat Soap Company\n• Story Design House\n• Vintage Farmhouse Interiors\n• Sweet Clover Barn\n• European Country Living\n• Class and Trash\n• Carpe Donut\n• Black Dog Salvage \n“We are so excited to be able bring Lucketts Spring Market to the Clarke County Fairground again after such a smash hit last year\, said Old Lucketts Store owner Suzanne Eblen. “Our loyal fans will be pleased to see an expansion of what we did last year with some new vendors\, more food trucks and some new surprises.”\nSalvage Dawgs chronicles the adventures and creativity of Black Dog Architectural Salvage\, a Roanoke\, Virginia-based architectural salvage business and retail warehouse. Praised for the humorous\, family-friendly banter amongst the team\, a suspenseful approach to presenting the salvage process and useful information about how to reuse the items they find\, Salvage Dawgs has proven to be an engaging and entertaining television show that the whole family can enjoy. Salvage Dawgs airs nationally on the DIY Network and Great American Country. Episodes also available on iTunes and Amazon.\nVIP early buying tickets on sale now and may be purchased online at https://www.luckettstore.com/shop-the-spring-market/ and general admission tickets will be available at the gate. \nClarke County Fairgrounds – 890 W. Main Street\, Berryville\, VA 22611 \nFriday\, May 18 – VIP entrance 8:30 a.m. to 12:00 p.m.\nFriday\, May 18 – General Admission 12:00 p.m. to 5 p.m.\nSat. May 19– General Admission 10:00 a.m. to 5 p.m\nSun. May 20 – General Admission 10 a.m. to 5 p.m. \nTickets: \n$40 – VIP Early Buying Ticket – good for all 3 days\n$10 – General admission – good for one day only – sold at the gate \nFor more information visit www.luckettstore.com or call (703) 779-0268.\nAbout Old Lucketts Store\nThe Old Lucketts Store is a 138 year old restored general store and family home. Built in 1879 by the Luckett family\, it was restored and brought back to life in 1996 by owner Suzanne Eblen\, her husband Pat\, and countless friends and workmen. The shop now is home to 35+ dealers who specialize in antiques\, vintage finds\, and just plain cool stuff\, Events include a monthly seasonal Design House\, Flea Market Sales\, Vintage Spring Market\, and Paint Classes. The Old Lucketts Store is located at 42350 Lucketts Road Leesburg\, VA 20176
URL:https://piedmontvirginian.com/event/19th-annual-lucketts-spring-market/
LOCATION:Clarke County Fairgrounds\, 890 W. Main Street\, Berryville\, VA 22611\, Berryville VA\, VA\, 22611\, United States
CATEGORIES:@ Piedmont Virginian
ATTACH;FMTTYPE=image/jpeg:https://piedmontvirginian.com/wp-content/uploads/2018/05/FullSizeRender.jpg
END:VEVENT
END:VCALENDAR