BEGIN:VCALENDAR
VERSION:2.0
PRODID:-//The Piedmont Virginian - ECPv5.3.2.1//NONSGML v1.0//EN
CALSCALE:GREGORIAN
METHOD:PUBLISH
X-WR-CALNAME:The Piedmont Virginian
X-ORIGINAL-URL:https://piedmontvirginian.com
X-WR-CALDESC:Events for The Piedmont Virginian
BEGIN:VTIMEZONE
TZID:America/New_York
BEGIN:DAYLIGHT
TZOFFSETFROM:-0500
TZOFFSETTO:-0400
TZNAME:EDT
DTSTART:20180311T070000
END:DAYLIGHT
BEGIN:STANDARD
TZOFFSETFROM:-0400
TZOFFSETTO:-0500
TZNAME:EST
DTSTART:20181104T060000
END:STANDARD
END:VTIMEZONE
BEGIN:VEVENT
DTSTART;TZID=America/New_York:20180809T190000
DTEND;TZID=America/New_York:20180809T203000
DTSTAMP:20260421T123403
CREATED:20180716T203447Z
LAST-MODIFIED:20180716T203447Z
UID:25810-1533841200-1533846600@piedmontvirginian.com
SUMMARY:2018 Summer Concert Series featuring U.S. Navy Band Sea Chanters
DESCRIPTION:During 2018\, the Marine Corps Heritage Foundation is hosting a Summer Concert Series that features military bands and ensembles. \nBring your blanket or camp chair and join us on the parade deck in front of the Museum for a performance by the U.S. Navy Band Sea Chanters. \nThis is a free event and open to the public.
URL:https://piedmontvirginian.com/event/2018-summer-concert-series-featuring-u-s-navy-band-sea-chanters/
LOCATION:National Museum of the Marine Corps\, 18900 Jefferson Davis Hwy\, Triangle\, VA\, 22172\, United States
CATEGORIES:@ Piedmont Virginian
ATTACH;FMTTYPE=image/png:https://piedmontvirginian.com/wp-content/uploads/2018/07/Screen-Shot-2018-07-11-at-10.00.14-AM.png
END:VEVENT
END:VCALENDAR