BEGIN:VCALENDAR
VERSION:2.0
PRODID:-//The Piedmont Virginian - ECPv5.3.2.1//NONSGML v1.0//EN
CALSCALE:GREGORIAN
METHOD:PUBLISH
X-WR-CALNAME:The Piedmont Virginian
X-ORIGINAL-URL:https://piedmontvirginian.com
X-WR-CALDESC:Events for The Piedmont Virginian
BEGIN:VTIMEZONE
TZID:America/New_York
BEGIN:DAYLIGHT
TZOFFSETFROM:-0500
TZOFFSETTO:-0400
TZNAME:EDT
DTSTART:20180311T070000
END:DAYLIGHT
BEGIN:STANDARD
TZOFFSETFROM:-0400
TZOFFSETTO:-0500
TZNAME:EST
DTSTART:20181104T060000
END:STANDARD
END:VTIMEZONE
BEGIN:VEVENT
DTSTART;TZID=America/New_York:20181110T100000
DTEND;TZID=America/New_York:20181111T180000
DTSTAMP:20260421T073843
CREATED:20181010T203935Z
LAST-MODIFIED:20181010T203935Z
UID:26217-1541844000-1541959200@piedmontvirginian.com
SUMMARY:8th Annual Catoctin Holiday Art Tour
DESCRIPTION:Please join us for holiday shopping in scenic Loudoun County! \nJoin nearly two dozen artists in their Lovettsville area studios on November 10th and 11th for the eighth annual Catoctin Holiday Art Tour: a weekend of beautiful scenery\, friendly folks\, and local art. \nThis relaxing self-guided driving tour leads visitors down some of western Loudoun’s prettiest country roads\, to homes and studios in the thriving artists’ community of Lovettsville. \nVisitors meet the artists where they work and have the opportunity to buy affordable art and gifts in advance of the holiday shopping rush. \nMany studios feature food and wine from local businesses as well. Small enough to do in an afternoon\, with art of a caliber to merit a day trip from DC. \nAll studios open 10am – 6pm both days
URL:https://piedmontvirginian.com/event/8th-annual-catoctin-holiday-art-tour/
LOCATION:Lovettsville\, 38615 Morrisonville Road Lovettsville\, VA 20180\, and various artist studios in Lovettsville\, VA\, Lovettsville\, VA\, 20180\, United States
CATEGORIES:@ Piedmont Virginian
ATTACH;FMTTYPE=image/png:https://piedmontvirginian.com/wp-content/uploads/2018/10/CATOCTIN2018.png
END:VEVENT
END:VCALENDAR