BEGIN:VCALENDAR
VERSION:2.0
PRODID:-//The Piedmont Virginian - ECPv5.3.2.1//NONSGML v1.0//EN
CALSCALE:GREGORIAN
METHOD:PUBLISH
X-WR-CALNAME:The Piedmont Virginian
X-ORIGINAL-URL:https://piedmontvirginian.com
X-WR-CALDESC:Events for The Piedmont Virginian
BEGIN:VTIMEZONE
TZID:America/New_York
BEGIN:DAYLIGHT
TZOFFSETFROM:-0500
TZOFFSETTO:-0400
TZNAME:EDT
DTSTART:20180311T070000
END:DAYLIGHT
BEGIN:STANDARD
TZOFFSETFROM:-0400
TZOFFSETTO:-0500
TZNAME:EST
DTSTART:20181104T060000
END:STANDARD
END:VTIMEZONE
BEGIN:VEVENT
DTSTART;TZID=America/New_York:20180815T090000
DTEND;TZID=America/New_York:20180815T120000
DTSTAMP:20260421T122500
CREATED:20180716T203358Z
LAST-MODIFIED:20180716T203358Z
UID:25814-1534323600-1534334400@piedmontvirginian.com
SUMMARY:Adventure Days - Summer Camp for Children!
DESCRIPTION:Adventure Days is a half-day summer camp program for toddlers and young\nchildren ages 3-6. \nThis program is designed for children who are fully\npotty-trained and can participate without their parents present. \nThere are 4 days available for registration:\nAugust 13 & 14 9am – 12pm Ages 3 – 4\nAugust 15 & 16 9am – 12pm Ages 5 – 6 \nMuseum staff will be on hand to supervise all Explorers. Parents are encouraged to drop off and pick up their children at the designated times. \nTo register your child for Adventure Days or for more information\, please email Gloria.Sarpong@usmcu.edu with the following: \nChild’s name\nChild’s age\nChild’s date of birth\nDesired camp day\nParent’s name\nParent’s email address\nContact number \nOnce you submit this information\, you will receive a confirmation email with a detailed registration form to be completed prior to camp. Camps will fill quickly and are on a first-come\, first-serve basis\, so please submit registration requests ASAP
URL:https://piedmontvirginian.com/event/adventure-days-summer-camp-for-children/
LOCATION:National Museum of the Marine Corps\, 18900 Jefferson Davis Hwy\, Triangle\, VA\, 22172\, United States
CATEGORIES:@ Piedmont Virginian
END:VEVENT
END:VCALENDAR