BEGIN:VCALENDAR
VERSION:2.0
PRODID:-//The Piedmont Virginian - ECPv5.3.2.1//NONSGML v1.0//EN
CALSCALE:GREGORIAN
METHOD:PUBLISH
X-WR-CALNAME:The Piedmont Virginian
X-ORIGINAL-URL:https://piedmontvirginian.com
X-WR-CALDESC:Events for The Piedmont Virginian
BEGIN:VTIMEZONE
TZID:America/New_York
BEGIN:DAYLIGHT
TZOFFSETFROM:-0500
TZOFFSETTO:-0400
TZNAME:EDT
DTSTART:20180311T070000
END:DAYLIGHT
BEGIN:STANDARD
TZOFFSETFROM:-0400
TZOFFSETTO:-0500
TZNAME:EST
DTSTART:20181104T060000
END:STANDARD
END:VTIMEZONE
BEGIN:VEVENT
DTSTART;TZID=America/New_York:20180928T180000
DTEND;TZID=America/New_York:20180928T193000
DTSTAMP:20260421T090002
CREATED:20180817T145518Z
LAST-MODIFIED:20180817T145519Z
UID:25995-1538157600-1538163000@piedmontvirginian.com
SUMMARY:An Evening with George Morris
DESCRIPTION:Hear legendary trainer and equestrian George Morris speak at NSLM! Morris will be reading from his personal collection of riding books\, including his own annotations and anecdotes. This program is being offered in partnership with Beverly Equestrian. $20 admission\, $10 for NSLM members. Prior registration required https://app.etapestry.com/onlineforms/NationalSportingLibrary/morris2018-1.html to purchase tickets.
URL:https://piedmontvirginian.com/event/an-evening-with-george-morris/
LOCATION:National Sporting Library & Museum\, 102 The Plains Road\, Middleburg\, 20117
CATEGORIES:@ Piedmont Virginian
END:VEVENT
END:VCALENDAR