BEGIN:VCALENDAR
VERSION:2.0
PRODID:-//The Piedmont Virginian - ECPv5.3.2.1//NONSGML v1.0//EN
CALSCALE:GREGORIAN
METHOD:PUBLISH
X-WR-CALNAME:The Piedmont Virginian
X-ORIGINAL-URL:https://piedmontvirginian.com
X-WR-CALDESC:Events for The Piedmont Virginian
BEGIN:VTIMEZONE
TZID:America/New_York
BEGIN:DAYLIGHT
TZOFFSETFROM:-0500
TZOFFSETTO:-0400
TZNAME:EDT
DTSTART:20160313T070000
END:DAYLIGHT
BEGIN:STANDARD
TZOFFSETFROM:-0400
TZOFFSETTO:-0500
TZNAME:EST
DTSTART:20161106T060000
END:STANDARD
END:VTIMEZONE
BEGIN:VEVENT
DTSTART;TZID=America/New_York:20161010T080000
DTEND;TZID=America/New_York:20161010T150000
DTSTAMP:20260421T051019
CREATED:20161006T224854Z
LAST-MODIFIED:20161006T224854Z
UID:17055-1476086400-1476111600@piedmontvirginian.com
SUMMARY:Auction & Golf Tournament
DESCRIPTION:The Ladies Golf Association is hosting a silent pink  auction and golf tournament at the Country Club of Culpeper to benefit the Pamper Me Pink Fund at the hospital.  Silent auction is Oct. 2-10 and the tournament is Oct. 10. The Pink Fund provides education and screening for people in the Culpeper area.  The silent auction is open to the public from 5-7 p.m.  Tues. thru Fri.  Auction items welcome-contact Priscilla Hilton (540-547-4950).  Hole sponsorships at $75 available-contact Joanne Durr (540-827-4814).  Tournament is a 4-person captain’s choice at $100/person.  Contact Priscilla or Joanne.  Public welcome.
URL:https://piedmontvirginian.com/event/auction-golf-tournament/
CATEGORIES:@ Culpeper Times,Outdoor Events
END:VEVENT
END:VCALENDAR