BEGIN:VCALENDAR
VERSION:2.0
PRODID:-//The Piedmont Virginian - ECPv5.3.2.1//NONSGML v1.0//EN
CALSCALE:GREGORIAN
METHOD:PUBLISH
X-WR-CALNAME:The Piedmont Virginian
X-ORIGINAL-URL:https://piedmontvirginian.com
X-WR-CALDESC:Events for The Piedmont Virginian
BEGIN:VTIMEZONE
TZID:America/New_York
BEGIN:DAYLIGHT
TZOFFSETFROM:-0500
TZOFFSETTO:-0400
TZNAME:EDT
DTSTART:20190310T070000
END:DAYLIGHT
BEGIN:STANDARD
TZOFFSETFROM:-0400
TZOFFSETTO:-0500
TZNAME:EST
DTSTART:20191103T060000
END:STANDARD
END:VTIMEZONE
BEGIN:VEVENT
DTSTART;TZID=America/New_York:20190427T093000
DTEND;TZID=America/New_York:20190428T160000
DTSTAMP:20260421T073245
CREATED:20181010T203914Z
LAST-MODIFIED:20181010T203914Z
UID:26219-1556357400-1556467200@piedmontvirginian.com
SUMMARY:Bill van Gilder Pottery Demonstration Workshop in Leesburg\, Virginia
DESCRIPTION:Join us in Leesburg\, Virginia for a 2-day weekend pottery workshop with Internationally recognized potter and ceramic artist\, Bill van Gilder. \nApril 26 – 28th \nFriday\, April 26th 6:00pm-8:00pm\, Slide show and wine and cheese reception \nSaturday\, April 27th 9:30-4:00pm\, Demonstration \nSunday\, April 28th 9:30-4:00pm\, Demonstration \nEvery potter has a list of WHAT they want to make. HOW to make it\, is often the question… \nDuring this two and a half day\, information-loaded\, demo-workshop some 50+ making techniques will be demonstrated in answer to these ‘how-to’ questions; techniques participants will want to use and adjust to fit their own future work. Short cuts\, tips and tool-use at the wheel will be shared through demo after demo. \nHand-building functional forms will be the focus during part of the demonstrations as requested\, defining projects and techniques for hand-builders. \n“Throughout 50+ yrs. of making functional pots\, I’ve collected hundreds of making techniques used to make specific pots\, both wheel-thrown and hand-built;”
URL:https://piedmontvirginian.com/event/bill-van-gilder-pottery-demonstration-workshop-in-leesburg-virginia/
LOCATION:The Clay and Metal Loft\, 27 Fairfax Street\, Virginia Village Shopping Center\, Leesburg\, VA\, 20175\, United States
CATEGORIES:@ Piedmont Virginian
ATTACH;FMTTYPE=image/png:https://piedmontvirginian.com/wp-content/uploads/2018/10/IMG_4935-1.png
END:VEVENT
END:VCALENDAR