BEGIN:VCALENDAR
VERSION:2.0
PRODID:-//The Piedmont Virginian - ECPv5.3.2.1//NONSGML v1.0//EN
CALSCALE:GREGORIAN
METHOD:PUBLISH
X-WR-CALNAME:The Piedmont Virginian
X-ORIGINAL-URL:https://piedmontvirginian.com
X-WR-CALDESC:Events for The Piedmont Virginian
BEGIN:VTIMEZONE
TZID:America/New_York
BEGIN:DAYLIGHT
TZOFFSETFROM:-0500
TZOFFSETTO:-0400
TZNAME:EDT
DTSTART:20180311T070000
END:DAYLIGHT
BEGIN:STANDARD
TZOFFSETFROM:-0400
TZOFFSETTO:-0500
TZNAME:EST
DTSTART:20181104T060000
END:STANDARD
END:VTIMEZONE
BEGIN:VEVENT
DTSTART;TZID=America/New_York:20180825T190000
DTEND;TZID=America/New_York:20180825T220000
DTSTAMP:20260421T121259
CREATED:20180716T203510Z
LAST-MODIFIED:20180716T203510Z
UID:25802-1535223600-1535234400@piedmontvirginian.com
SUMMARY:Blanc on Blanc Dinner Party
DESCRIPTION:This year our theme is “an evening in Paris.” Join the Blanc on Blanc movement! Bring your significant other for our 3rd annual Blanc on Blanc dinner party! \nYour ticket includes an elegant four-course dinner\, live music\, dancing and a glass of wine. \nWe’re thrilled that the acclaimed Jennifer Scott World Jazz Ensemble will perform live at this event! \nThere’s only one rule: wear all white! \nGet creative! Dig those fancy white suits and blazers and dresses out of the closet and put together a fabulous outfit.
URL:https://piedmontvirginian.com/event/blanc-on-blanc-dinner-party/
LOCATION:James Charles Winery & Vineyard\, 4063 Middle Rd\, Winchester\, 22602
CATEGORIES:@ Piedmont Virginian
ATTACH;FMTTYPE=image/jpeg:https://piedmontvirginian.com/wp-content/uploads/2018/07/Blanc-on-Blanc.jpg
END:VEVENT
END:VCALENDAR