BEGIN:VCALENDAR
VERSION:2.0
PRODID:-//The Piedmont Virginian - ECPv5.3.2.1//NONSGML v1.0//EN
CALSCALE:GREGORIAN
METHOD:PUBLISH
X-WR-CALNAME:The Piedmont Virginian
X-ORIGINAL-URL:https://piedmontvirginian.com
X-WR-CALDESC:Events for The Piedmont Virginian
BEGIN:VTIMEZONE
TZID:America/New_York
BEGIN:DAYLIGHT
TZOFFSETFROM:-0500
TZOFFSETTO:-0400
TZNAME:EDT
DTSTART:20160313T070000
END:DAYLIGHT
BEGIN:STANDARD
TZOFFSETFROM:-0400
TZOFFSETTO:-0500
TZNAME:EST
DTSTART:20161106T060000
END:STANDARD
END:VTIMEZONE
BEGIN:VEVENT
DTSTART;TZID=America/New_York:20160510T123000
DTEND;TZID=America/New_York:20160510T173000
DTSTAMP:20260424T113520
CREATED:20160505T190251Z
LAST-MODIFIED:20160505T190251Z
UID:11754-1462883400-1462901400@piedmontvirginian.com
SUMMARY:Blood Drive
DESCRIPTION:St. Stephen’s Episcopal Church Located at 115 N. East St.\, Culpeper (parking located at 120 N. Commerce Street) will host a Blood Drive from 12:30 p.m. – 5:30 p.m. on the 3rd floor above the Culpeper Food Closet.  Please call the parish office for more information at 540-825-8786 or visit our website at: www.ststephensculpeper.net.  Like us on Facebook at: St-Stephens-Episcopal-Church-Culpeper-VA.
URL:https://piedmontvirginian.com/event/blood-drive/
LOCATION:St. Stephen’s Episcopal Church\, 115 N. East St.\, Culpeper\, VA\, 22701\, United States
CATEGORIES:@ Culpeper Times
END:VEVENT
END:VCALENDAR