BEGIN:VCALENDAR
VERSION:2.0
PRODID:-//The Piedmont Virginian - ECPv5.3.2.1//NONSGML v1.0//EN
CALSCALE:GREGORIAN
METHOD:PUBLISH
X-WR-CALNAME:The Piedmont Virginian
X-ORIGINAL-URL:https://piedmontvirginian.com
X-WR-CALDESC:Events for The Piedmont Virginian
BEGIN:VTIMEZONE
TZID:America/New_York
BEGIN:DAYLIGHT
TZOFFSETFROM:-0500
TZOFFSETTO:-0400
TZNAME:EDT
DTSTART:20170312T070000
END:DAYLIGHT
BEGIN:STANDARD
TZOFFSETFROM:-0400
TZOFFSETTO:-0500
TZNAME:EST
DTSTART:20171105T060000
END:STANDARD
END:VTIMEZONE
BEGIN:VEVENT
DTSTART;TZID=America/New_York:20170909T190000
DTEND;TZID=America/New_York:20170909T223000
DTSTAMP:20260421T061905
CREATED:20170825T192653Z
LAST-MODIFIED:20170825T192653Z
UID:22261-1504983600-1504996200@piedmontvirginian.com
SUMMARY:Bluemont Fall Fest feat. The Flaming Shillelaghs
DESCRIPTION:The Flaming Shillelaghs first performed for the Bluemont Concert Series in the 1980s for First Night Leesburg. Since then\, they have delighted audiences with their spirited renditions of traditional Irish dance music\, haunting ballads and infectious humor. The Flaming Shillelaghs are Jesse Winch on guitar\, bodhran\, and harmonica\, Joe DeZarn\, fiddle\, Tina Eck\, flute and whistles\, and Melissa Dunning on vocals. Their performance will also feature traditional Irish step-dancing. They’re multi-talented\, multi-instrumentalists who never let a good tune or song get by them. \nFacepainting\, fun activities for kids\, performances from local musicians/artists and more! Doors open at 7:00 PM. Headlining performance with the Flaming Shillelaghs at 7:30 PM. \nRequested Donation: $5 General Admission\, $4 Seniors & Friends\, $2 Kids under 12
URL:https://piedmontvirginian.com/event/bluemont-fall-fest-feat-the-flaming-shillelaghs/
LOCATION:Downtown Middleburg\, 15 South Madison Street\, Middleburg\, VA\, 20117\, United States
CATEGORIES:@ Piedmont Virginian,Music and Concerts
END:VEVENT
END:VCALENDAR