BEGIN:VCALENDAR
VERSION:2.0
PRODID:-//The Piedmont Virginian - ECPv5.3.2.1//NONSGML v1.0//EN
CALSCALE:GREGORIAN
METHOD:PUBLISH
X-WR-CALNAME:The Piedmont Virginian
X-ORIGINAL-URL:https://piedmontvirginian.com
X-WR-CALDESC:Events for The Piedmont Virginian
BEGIN:VTIMEZONE
TZID:America/New_York
BEGIN:DAYLIGHT
TZOFFSETFROM:-0500
TZOFFSETTO:-0400
TZNAME:EDT
DTSTART:20170312T070000
END:DAYLIGHT
BEGIN:STANDARD
TZOFFSETFROM:-0400
TZOFFSETTO:-0500
TZNAME:EST
DTSTART:20171105T060000
END:STANDARD
END:VTIMEZONE
BEGIN:VEVENT
DTSTART;TZID=America/New_York:20170819T193000
DTEND;TZID=America/New_York:20170819T213000
DTSTAMP:20260421T090210
CREATED:20170705T194948Z
LAST-MODIFIED:20170705T194948Z
UID:21576-1503171000-1503178200@piedmontvirginian.com
SUMMARY:Bluemont Summer Concert with Pan Masters
DESCRIPTION:The popular Pan Masters Steel Orchestra thrills audiences with exotic island instruments\, great music and dancing on the green. Their eclectic repertoire ranges from traditional island calypso\, reggae and soca to the band’s interpretations of Stevie Wonder\, the Beatles\, J.S. Bach and more. \nAll are welcome\, bring lawn chairs\, blankets and picnics; no pets\, alcohol\, or smoking allowed; refreshments are available for sale by local community organizations. In the event of bad weather\, the indoor location will be Taylor Middle School. \n$5 General Admission\n$4 Seniors and Friends\n$2 Kids 12 and under
URL:https://piedmontvirginian.com/event/bluemont-summer-concert-with-pan-masters/
LOCATION:Warren Green Building\, 10 Hotel Street\, Warrenton\, 20186
CATEGORIES:@ Piedmont Virginian,Music and Concerts
ATTACH;FMTTYPE=image/jpeg:https://piedmontvirginian.com/wp-content/uploads/2017/06/PAN2.jpg
END:VEVENT
END:VCALENDAR