BEGIN:VCALENDAR
VERSION:2.0
PRODID:-//The Piedmont Virginian - ECPv5.3.2.1//NONSGML v1.0//EN
CALSCALE:GREGORIAN
METHOD:PUBLISH
X-WR-CALNAME:The Piedmont Virginian
X-ORIGINAL-URL:https://piedmontvirginian.com
X-WR-CALDESC:Events for The Piedmont Virginian
BEGIN:VTIMEZONE
TZID:America/New_York
BEGIN:DAYLIGHT
TZOFFSETFROM:-0500
TZOFFSETTO:-0400
TZNAME:EDT
DTSTART:20180311T070000
END:DAYLIGHT
BEGIN:STANDARD
TZOFFSETFROM:-0400
TZOFFSETTO:-0500
TZNAME:EST
DTSTART:20181104T060000
END:STANDARD
END:VTIMEZONE
BEGIN:VEVENT
DTSTART;TZID=America/New_York:20180602T110000
DTEND;TZID=America/New_York:20180602T130000
DTSTAMP:20260421T155102
CREATED:20180301T163911Z
LAST-MODIFIED:20180301T163911Z
UID:24874-1527937200-1527944400@piedmontvirginian.com
SUMMARY:Book Signing at Morven Park by Award-winning Novelist
DESCRIPTION:Award-winning and bestselling author Jessica James will be signing copies of her latest Civil War novel\, The Lion of the South at historic Morven Park in Leesburg\, Va.\, on June 2\, from 11 a.m. to 1 p.m. \nJames’ books have won more than a dozen national literary awards\, including a Readers’ Favorite International Book Award. She is also a two-time winner of the coveted John Esten Cooke Award for Southern Fiction\, and has received critical acclaim for her earlier Civil War novels\, Shades of Gray and Noble Cause. \nThe book signing will be held on the steps of the historic Westmoreland mansion at Morven Park\, which is featured on the cover of The Lion of the South. \nVisit www.jessicajamesbooks.com to learn more about this author\,
URL:https://piedmontvirginian.com/event/book-signing-at-morven-park-by-award-winning-novelist/
LOCATION:morven park\, 17195 Southern Planter Lane\, Leesburg\, VA\, 20176\, United States
CATEGORIES:@ Piedmont Virginian
ATTACH;FMTTYPE=image/jpeg:https://piedmontvirginian.com/wp-content/uploads/2018/02/Lion-of-the-South-ebook-Cover-Large.jpg
END:VEVENT
END:VCALENDAR