BEGIN:VCALENDAR
VERSION:2.0
PRODID:-//The Piedmont Virginian - ECPv5.3.2.1//NONSGML v1.0//EN
CALSCALE:GREGORIAN
METHOD:PUBLISH
X-WR-CALNAME:The Piedmont Virginian
X-ORIGINAL-URL:https://piedmontvirginian.com
X-WR-CALDESC:Events for The Piedmont Virginian
BEGIN:VTIMEZONE
TZID:America/New_York
BEGIN:DAYLIGHT
TZOFFSETFROM:-0500
TZOFFSETTO:-0400
TZNAME:EDT
DTSTART:20180311T070000
END:DAYLIGHT
BEGIN:STANDARD
TZOFFSETFROM:-0400
TZOFFSETTO:-0500
TZNAME:EST
DTSTART:20181104T060000
END:STANDARD
END:VTIMEZONE
BEGIN:VEVENT
DTSTART;TZID=America/New_York:20181102T173000
DTEND;TZID=America/New_York:20181102T193000
DTSTAMP:20260421T073245
CREATED:20181001T200547Z
LAST-MODIFIED:20181001T200547Z
UID:26212-1541179800-1541187000@piedmontvirginian.com
SUMMARY:"BozART is Back:  Local Inspirations\, A Group Multimedia Art Exhibit"
DESCRIPTION:City Art Space features BozART Fine Art Collective for the month of November 2018\, address: 100 – 5th Street\, NE\, Charlottesville\, VA 22902\, Hours: 8:30 – 5:30. Opening Reception will be Friday\, November 2\, 2018 from 5:30 to 7:30 p.m. Hors d’oeuvres will be provided. BozART\, a past mall gallery\, continues as a group of local artists exhibiting in various venues in and around the Charlottesville area. Their art includes oil\, acrylic\, watercolor\, collage\, photography\, pastel and gouache.
URL:https://piedmontvirginian.com/event/bozart-is-back-local-inspirations-a-group-multimedia-art-exhibit/
LOCATION:City Space\, 100 5th Street\, NE\, Charlottesville\, VA\, United States
CATEGORIES:@ Piedmont Virginian
ATTACH;FMTTYPE=image/jpeg:https://piedmontvirginian.com/wp-content/uploads/2018/10/Sunset-on-the-James-by-Randy-Baskerville.jpg
END:VEVENT
END:VCALENDAR