BEGIN:VCALENDAR
VERSION:2.0
PRODID:-//The Piedmont Virginian - ECPv5.3.2.1//NONSGML v1.0//EN
CALSCALE:GREGORIAN
METHOD:PUBLISH
X-WR-CALNAME:The Piedmont Virginian
X-ORIGINAL-URL:https://piedmontvirginian.com
X-WR-CALDESC:Events for The Piedmont Virginian
BEGIN:VTIMEZONE
TZID:America/New_York
BEGIN:DAYLIGHT
TZOFFSETFROM:-0500
TZOFFSETTO:-0400
TZNAME:EDT
DTSTART:20170312T070000
END:DAYLIGHT
BEGIN:STANDARD
TZOFFSETFROM:-0400
TZOFFSETTO:-0500
TZNAME:EST
DTSTART:20171105T060000
END:STANDARD
END:VTIMEZONE
BEGIN:VEVENT
DTSTART;TZID=America/New_York:20171020T190000
DTEND;TZID=America/New_York:20171020T210000
DTSTAMP:20260421T103014
CREATED:20171019T180531Z
LAST-MODIFIED:20171019T180546Z
UID:23823-1508526000-1508533200@piedmontvirginian.com
SUMMARY:Celebrate Unity Event
DESCRIPTION:Music and dance will play a big part in the Celebrating Culpeper’s Unity event scheduled at 7 p.m. at Eastern View High School. The program is scheduled to take place in the cafeteria\, to accommodate the performers and to foster socializing and enjoying\nrefreshments together. \nThe event will showcase fellowship and an appreciation of a variety of cultures found in the Culpeper area. This cultural celebration is sponsored by the Culpeper members of the Baha’i Faith who believe that one God created our world and loves all his children all around the globe. \nThis event is free to the public. No offering will be solicited or accepted. For further information on this event\, please contact jandmskelton@gmail.com or (540) 718-4132 or jfmcbride@aol.com\, (540) 812-2670.
URL:https://piedmontvirginian.com/event/celebrate-unity-event/
LOCATION:Eastern View High School\, 16332 Cyclone Way\, Culpeper\, VA\, 22701\, United States
CATEGORIES:@ Culpeper Times,Meetup
END:VEVENT
END:VCALENDAR