BEGIN:VCALENDAR
VERSION:2.0
PRODID:-//The Piedmont Virginian - ECPv5.3.2.1//NONSGML v1.0//EN
CALSCALE:GREGORIAN
METHOD:PUBLISH
X-WR-CALNAME:The Piedmont Virginian
X-ORIGINAL-URL:https://piedmontvirginian.com
X-WR-CALDESC:Events for The Piedmont Virginian
BEGIN:VTIMEZONE
TZID:America/New_York
BEGIN:DAYLIGHT
TZOFFSETFROM:-0500
TZOFFSETTO:-0400
TZNAME:EDT
DTSTART:20170312T070000
END:DAYLIGHT
BEGIN:STANDARD
TZOFFSETFROM:-0400
TZOFFSETTO:-0500
TZNAME:EST
DTSTART:20171105T060000
END:STANDARD
END:VTIMEZONE
BEGIN:VEVENT
DTSTART;TZID=America/New_York:20171126T140000
DTEND;TZID=America/New_York:20171126T140000
DTSTAMP:20260421T044705
CREATED:20170718T204018Z
LAST-MODIFIED:20170718T204018Z
UID:22050-1511704800-1511704800@piedmontvirginian.com
SUMMARY:Chanticleer: A Chanticleer Christmas
DESCRIPTION:“The world’s reigning male chorus” (The New Yorker) kicks off the holiday season at the Hylton Center with a concert of a cappella voices that includes classical music and popular holiday favorites. Chanticleer is renowned for the seamless blend of 12 extraordinary male voices\, ranging from countertenor to bass\, with their superior technique\, sublime tone\, and unparalleled musicality. Their original interpretations span period and genre—from Gregorian chant to jazz\, popular\, and contemporary music. The group\, which has been praised by the San Francisco Chronicle for its “tonal luxuriance and crisply etched clarity\,” has a long list of impressive accomplishments: sales of more than a million albums\, winning two Grammy® Awards\, being named Ensemble of the Year by Musical America in 2008\, and induction into the American Classical Music Hall of Fame. Come savor these glorious sounds of the season.
URL:https://piedmontvirginian.com/event/chanticleer-a-chanticleer-christmas/
LOCATION:Hylton Performing Arts Center\, 10960 George Mason Circle\, Manassas\, VA\, 20110\, United States
CATEGORIES:@ Piedmont Virginian,Seasonal holidays
ATTACH;FMTTYPE=image/jpeg:https://piedmontvirginian.com/wp-content/uploads/2017/07/Chanticleer-Formal-PR-Photo-2.jpg
END:VEVENT
END:VCALENDAR