BEGIN:VCALENDAR
VERSION:2.0
PRODID:-//The Piedmont Virginian - ECPv5.3.2.1//NONSGML v1.0//EN
CALSCALE:GREGORIAN
METHOD:PUBLISH
X-WR-CALNAME:The Piedmont Virginian
X-ORIGINAL-URL:https://piedmontvirginian.com
X-WR-CALDESC:Events for The Piedmont Virginian
BEGIN:VTIMEZONE
TZID:America/New_York
BEGIN:DAYLIGHT
TZOFFSETFROM:-0500
TZOFFSETTO:-0400
TZNAME:EDT
DTSTART:20160313T070000
END:DAYLIGHT
BEGIN:STANDARD
TZOFFSETFROM:-0400
TZOFFSETTO:-0500
TZNAME:EST
DTSTART:20161106T060000
END:STANDARD
END:VTIMEZONE
BEGIN:VEVENT
DTSTART;TZID=America/New_York:20160925T153000
DTEND;TZID=America/New_York:20160925T173000
DTSTAMP:20260419T083534
CREATED:20160720T160733Z
LAST-MODIFIED:20160720T160733Z
UID:14216-1474817400-1474824600@piedmontvirginian.com
SUMMARY:Charlottesville Symphony Masterworks Concert
DESCRIPTION:The Charlottesville Symphony opens its 2016-17 season with Charles Griffes’ The Pleasure Dome of Kubla Khan\, Dan Welcher’s Prairie Light: Three Texas Water Colors of Georgia O’Keeffe and Rimsky-Korsakov’s dazzling Scheherazade.
URL:https://piedmontvirginian.com/event/charlottesville-symphony-masterworks-concert/
LOCATION:Martin Luther King\, Jr. Performing Arts Center at Charlottesville High School\, 1400 Melbourne Road\, Charlottesville\, 22901
CATEGORIES:@ Piedmont Virginian,Music and Concerts
END:VEVENT
END:VCALENDAR