BEGIN:VCALENDAR
VERSION:2.0
PRODID:-//The Piedmont Virginian - ECPv5.3.2.1//NONSGML v1.0//EN
CALSCALE:GREGORIAN
METHOD:PUBLISH
X-WR-CALNAME:The Piedmont Virginian
X-ORIGINAL-URL:https://piedmontvirginian.com
X-WR-CALDESC:Events for The Piedmont Virginian
BEGIN:VTIMEZONE
TZID:America/New_York
BEGIN:DAYLIGHT
TZOFFSETFROM:-0500
TZOFFSETTO:-0400
TZNAME:EDT
DTSTART:20180311T070000
END:DAYLIGHT
BEGIN:STANDARD
TZOFFSETFROM:-0400
TZOFFSETTO:-0500
TZNAME:EST
DTSTART:20181104T060000
END:STANDARD
END:VTIMEZONE
BEGIN:VEVENT
DTSTART;TZID=America/New_York:20181201T170000
DTEND;TZID=America/New_York:20181201T190000
DTSTAMP:20260424T003750
CREATED:20180416T161717Z
LAST-MODIFIED:20180416T161717Z
UID:25175-1543683600-1543690800@piedmontvirginian.com
SUMMARY:Christmas Tree Lighting Ceremony
DESCRIPTION:Join us for our annual lighting of the vineyard Christmas tree at Veramar Vineyard! \nEveryone will receive a complimentary cookie and we have a special on glasses of mulled wine all night as we gather around the tree and see the lights go up – this event is great for kids\, too! \nWe will light the tree at 6pm\, but come early and stay late as we kick off the holiday season with live holiday music in the tasting room to get you in the Christmas spirit! \nPsst! We also heard that Santa will making a stop by the winery from 6-7pm!
URL:https://piedmontvirginian.com/event/christmas-tree-lighting-ceremony/
LOCATION:Veramar Vineyard\, 905 Quarry Rd\, Berryville\, 22611
CATEGORIES:@ Piedmont Virginian
ATTACH;FMTTYPE=image/jpeg:https://piedmontvirginian.com/wp-content/uploads/2018/04/Christmas-Tree-Lighting-Ceremony.jpg
END:VEVENT
END:VCALENDAR