BEGIN:VCALENDAR
VERSION:2.0
PRODID:-//The Piedmont Virginian - ECPv5.3.2.1//NONSGML v1.0//EN
CALSCALE:GREGORIAN
METHOD:PUBLISH
X-WR-CALNAME:The Piedmont Virginian
X-ORIGINAL-URL:https://piedmontvirginian.com
X-WR-CALDESC:Events for The Piedmont Virginian
BEGIN:VTIMEZONE
TZID:America/New_York
BEGIN:DAYLIGHT
TZOFFSETFROM:-0500
TZOFFSETTO:-0400
TZNAME:EDT
DTSTART:20180311T070000
END:DAYLIGHT
BEGIN:STANDARD
TZOFFSETFROM:-0400
TZOFFSETTO:-0500
TZNAME:EST
DTSTART:20181104T060000
END:STANDARD
END:VTIMEZONE
BEGIN:VEVENT
DTSTART;TZID=America/New_York:20180602T100000
DTEND;TZID=America/New_York:20180602T140000
DTSTAMP:20260421T154807
CREATED:20180507T202137Z
LAST-MODIFIED:20180507T202137Z
UID:25525-1527933600-1527948000@piedmontvirginian.com
SUMMARY:Clean the Bay Day and National Trails Day
DESCRIPTION:Clean the Bay Day–10 a.m. to 1 p.m.\nLearn how fences\, tree plantings and trail maintenance improve water quality with our interactive watershed model. Gap Run\, which flows through Sky Meadows\, originates from a mountain spring. Positive water quality measures practiced at the park prevent contaminants from entering the water as it heads toward the Chesapeake Bay. Stop by our Explorer Outpost table off of the Boston Mill Road Trail to discover ways we can all keep the Bay clean.\nHelp us partner with the Chesapeake Bay Foundation. At the Outpost\, grab a plastic bag and gloves and help us keep Gap Run and the Bay clean by picking up trash along your hike. Trash can be returned to the Outpost by 1 p.m.\, or at the Visitor Center before 4 p.m.\nNational Trails Day–10 a.m. to 2 p.m.\nGet your hands dirty on National Trails Day. Eroded trails sweep excess dirt into streams. Fine particles of silt clog the gills of fish and deprive smaller creek dwelling organisms of oxygen. In 2017\, the park re-routed Gap Run Trail to mitigate this issue. Join us in repairing erosion along the old Gap Run route. Meet at the Backcountry Trailhead at 10 a.m. and bring gloves\, plenty of water\, and wear bug spray and sun protection. Tools will be provided.
URL:https://piedmontvirginian.com/event/clean-the-bay-day-and-national-trails-day/
LOCATION:Sky Meadows State Park\, 11012 Edmonds Lane\, Delaplane\, VA\, 20144\, United States
CATEGORIES:@ Piedmont Virginian
ATTACH;FMTTYPE=image/jpeg:https://piedmontvirginian.com/wp-content/uploads/2018/05/20170917_134400-2.jpg
END:VEVENT
END:VCALENDAR