BEGIN:VCALENDAR
VERSION:2.0
PRODID:-//The Piedmont Virginian - ECPv5.3.2.1//NONSGML v1.0//EN
CALSCALE:GREGORIAN
METHOD:PUBLISH
X-WR-CALNAME:The Piedmont Virginian
X-ORIGINAL-URL:https://piedmontvirginian.com
X-WR-CALDESC:Events for The Piedmont Virginian
BEGIN:VTIMEZONE
TZID:America/New_York
BEGIN:DAYLIGHT
TZOFFSETFROM:-0500
TZOFFSETTO:-0400
TZNAME:EDT
DTSTART:20170312T070000
END:DAYLIGHT
BEGIN:STANDARD
TZOFFSETFROM:-0400
TZOFFSETTO:-0500
TZNAME:EST
DTSTART:20171105T060000
END:STANDARD
END:VTIMEZONE
BEGIN:VEVENT
DTSTART;TZID=America/New_York:20170501T100000
DTEND;TZID=America/New_York:20170531T200000
DTSTAMP:20260419T120229
CREATED:20170505T131257Z
LAST-MODIFIED:20170505T131257Z
UID:20682-1493632800-1496260800@piedmontvirginian.com
SUMMARY:Coming Up Spring
DESCRIPTION:The Arts In The Village Gallery is proud to announce its Featured Artist Exhibit “Coming up Spring”with works by oil painter Steven Myles and potter Amy Oliver. The exhibit is a celebration of nature and the renewal of life in Spring. Amy Oliver’s organic ceramic vessels are her way of honoring the earth from where her materials heed. Amy’s love for surface work and texture is transformed on her pieces in the form of carvings of trees\, birds and other subjects from nature. Oil painter Steven Myles seeks to portray scenes from nature that evoke an emotional or spiritual response from the viewer. Steven’s depiction of nature and ambience is like a brief\, magical encounter with that specific scene through his use of light and point of view.Steve will be painting and Amy will be demonstrating handbuilding and sculpting clay on Saturday\, May 20 from 5 – 7 pm.\nArts in the Village Gallery\, 1601 Village Market Blvd.\, Suite 116\, Leesburg\, VA\, 20175. Email: info@artsinthevillage.com. Phone: 571-442-8661. Website: www.artsinthevillage.com.
URL:https://piedmontvirginian.com/event/coming-up-spring/
LOCATION:Arts in the Village Gallery\, 1601 Village Market Blvd.\, Suite 116\, Leeburg\, 20175
CATEGORIES:@ Piedmont Virginian,Art
END:VEVENT
END:VCALENDAR