BEGIN:VCALENDAR
VERSION:2.0
PRODID:-//The Piedmont Virginian - ECPv5.3.2.1//NONSGML v1.0//EN
CALSCALE:GREGORIAN
METHOD:PUBLISH
X-WR-CALNAME:The Piedmont Virginian
X-ORIGINAL-URL:https://piedmontvirginian.com
X-WR-CALDESC:Events for The Piedmont Virginian
BEGIN:VTIMEZONE
TZID:America/New_York
BEGIN:DAYLIGHT
TZOFFSETFROM:-0500
TZOFFSETTO:-0400
TZNAME:EDT
DTSTART:20160313T070000
END:DAYLIGHT
BEGIN:STANDARD
TZOFFSETFROM:-0400
TZOFFSETTO:-0500
TZNAME:EST
DTSTART:20161106T060000
END:STANDARD
END:VTIMEZONE
BEGIN:VEVENT
DTSTART;TZID=America/New_York:20160825T170000
DTEND;TZID=America/New_York:20160825T200000
DTSTAMP:20260419T180715
CREATED:20160818T192522Z
LAST-MODIFIED:20160818T192522Z
UID:15164-1472144400-1472155200@piedmontvirginian.com
SUMMARY:Commemoration Event
DESCRIPTION:Join the Museum of Culpeper History and Best of America By Horseback in the Commemoration of the 300th Anniversary of the Ride of Lt. Governor Spotswood’s Knights of the Golden Horseshoe at Andora Farm located at 17275 Germanna Hwy.  at 5 p.m. A bonfire\, food\, live music\, Colonial games\, presentations and photo ops with riders\, re-enactors and horses. Tickets available at the Museum for $15 adults\, $8 for kids 6-12 prior to event. Phone 540-829- 1749 for information and tickets.
URL:https://piedmontvirginian.com/event/commemoration-event/
LOCATION:Andora Farm\, 17275 Germanna Hwy\, Culpeper\, VA\, 22701\, United States
CATEGORIES:@ Culpeper Times
END:VEVENT
END:VCALENDAR