BEGIN:VCALENDAR
VERSION:2.0
PRODID:-//The Piedmont Virginian - ECPv5.3.2.1//NONSGML v1.0//EN
CALSCALE:GREGORIAN
METHOD:PUBLISH
X-WR-CALNAME:The Piedmont Virginian
X-ORIGINAL-URL:https://piedmontvirginian.com
X-WR-CALDESC:Events for The Piedmont Virginian
BEGIN:VTIMEZONE
TZID:America/New_York
BEGIN:DAYLIGHT
TZOFFSETFROM:-0500
TZOFFSETTO:-0400
TZNAME:EDT
DTSTART:20160313T070000
END:DAYLIGHT
BEGIN:STANDARD
TZOFFSETFROM:-0400
TZOFFSETTO:-0500
TZNAME:EST
DTSTART:20161106T060000
END:STANDARD
END:VTIMEZONE
BEGIN:VEVENT
DTSTART;TZID=America/New_York:20160804T100000
DTEND;TZID=America/New_York:20160804T120000
DTSTAMP:20260421T062939
CREATED:20160515T150448Z
LAST-MODIFIED:20160515T150448Z
UID:11955-1470304800-1470312000@piedmontvirginian.com
SUMMARY:Crowdsourced Transcription Project
DESCRIPTION:Sonya Coleman has worked in Digital Collections at the Library of Virginia for four years. She studied art history and psychology at Hollins University. After working in museums and galleries\, she discovered her niche at the intersection of special collections libraries and new technology while at Historical Collections at UVa Health Sciences Library. Her primary interests are accessibility\, innovation\, and preservation.
URL:https://piedmontvirginian.com/event/crowdsourced-transcription-project/
LOCATION:Thomas Balch LIbrary\, 208 W. Market St.\, Leesburg\, VA\, 20176\, United States
CATEGORIES:@ Piedmont Virginian,History and Heritage
END:VEVENT
END:VCALENDAR