BEGIN:VCALENDAR
VERSION:2.0
PRODID:-//The Piedmont Virginian - ECPv5.3.2.1//NONSGML v1.0//EN
CALSCALE:GREGORIAN
METHOD:PUBLISH
X-WR-CALNAME:The Piedmont Virginian
X-ORIGINAL-URL:https://piedmontvirginian.com
X-WR-CALDESC:Events for The Piedmont Virginian
BEGIN:VTIMEZONE
TZID:America/New_York
BEGIN:DAYLIGHT
TZOFFSETFROM:-0500
TZOFFSETTO:-0400
TZNAME:EDT
DTSTART:20170312T070000
END:DAYLIGHT
BEGIN:STANDARD
TZOFFSETFROM:-0400
TZOFFSETTO:-0500
TZNAME:EST
DTSTART:20171105T060000
END:STANDARD
END:VTIMEZONE
BEGIN:VEVENT
DTSTART;TZID=America/New_York:20170814T180000
DTEND;TZID=America/New_York:20170814T190000
DTSTAMP:20260421T174133
CREATED:20170803T173132Z
LAST-MODIFIED:20170803T173132Z
UID:22491-1502733600-1502737200@piedmontvirginian.com
SUMMARY:Cub Scout Pack 196 Ice Cream Social
DESCRIPTION:Do you have a son in 1st-5th grade interested in cub scouts? If so please join St. Luke’s pack 196 for an ice cream social on Monday August 14th at St. Luke’s Lutheran church from 6-7 pm. If you are unable to attend and would like more information please contact Cubmaster Mark Hartman at bsapack196@gmail.com or 540-727-7679.
URL:https://piedmontvirginian.com/event/cub-scout-pack-196-ice-cream-social/
LOCATION:St. Luke Lutheran Church\, 1200 Old Rixeyville Rd.\, Culpeper\, VA\, 22701\, United States
CATEGORIES:@ Culpeper Times
END:VEVENT
END:VCALENDAR