BEGIN:VCALENDAR
VERSION:2.0
PRODID:-//The Piedmont Virginian - ECPv5.3.2.1//NONSGML v1.0//EN
CALSCALE:GREGORIAN
METHOD:PUBLISH
X-WR-CALNAME:The Piedmont Virginian
X-ORIGINAL-URL:https://piedmontvirginian.com
X-WR-CALDESC:Events for The Piedmont Virginian
BEGIN:VTIMEZONE
TZID:America/New_York
BEGIN:DAYLIGHT
TZOFFSETFROM:-0500
TZOFFSETTO:-0400
TZNAME:EDT
DTSTART:20170312T070000
END:DAYLIGHT
BEGIN:STANDARD
TZOFFSETFROM:-0400
TZOFFSETTO:-0500
TZNAME:EST
DTSTART:20171105T060000
END:STANDARD
END:VTIMEZONE
BEGIN:VEVENT
DTSTART;TZID=America/New_York:20170812T100000
DTEND;TZID=America/New_York:20170812T140000
DTSTAMP:20260421T173803
CREATED:20170803T173010Z
LAST-MODIFIED:20170803T173010Z
UID:22489-1502532000-1502546400@piedmontvirginian.com
SUMMARY:Cub Scout Pack 196 Meetup
DESCRIPTION:Do you have a son in 1st-5th grade interested in cub scouts? If so please join St. Luke’s pack 196 on Saturday August 12th at Yowell Meadow park for food and fun from 10-2pm. If you are unable to attend and would like more information please contact Cubmaster Mark Hartman at bsapack196@gmail.com or 540-727-7679.
URL:https://piedmontvirginian.com/event/cub-scout-pack-196-meetup/
LOCATION:Yowell Meadow Park\, Culpeper\, VA\, 22701\, United States
CATEGORIES:@ Culpeper Times,Meetup
END:VEVENT
END:VCALENDAR