BEGIN:VCALENDAR
VERSION:2.0
PRODID:-//The Piedmont Virginian - ECPv5.3.2.1//NONSGML v1.0//EN
CALSCALE:GREGORIAN
METHOD:PUBLISH
X-WR-CALNAME:The Piedmont Virginian
X-ORIGINAL-URL:https://piedmontvirginian.com
X-WR-CALDESC:Events for The Piedmont Virginian
BEGIN:VTIMEZONE
TZID:America/New_York
BEGIN:DAYLIGHT
TZOFFSETFROM:-0500
TZOFFSETTO:-0400
TZNAME:EDT
DTSTART:20160313T070000
END:DAYLIGHT
BEGIN:STANDARD
TZOFFSETFROM:-0400
TZOFFSETTO:-0500
TZNAME:EST
DTSTART:20161106T060000
END:STANDARD
END:VTIMEZONE
BEGIN:VEVENT
DTSTART;TZID=America/New_York:20161120T120000
DTEND;TZID=America/New_York:20161120T170000
DTSTAMP:20260421T044821
CREATED:20160715T190902Z
LAST-MODIFIED:20160715T190902Z
UID:13773-1479643200-1479661200@piedmontvirginian.com
SUMMARY:Culpeper Downtown Holiday Open House
DESCRIPTION:Sunday\, November 20\, 2016 ~ 12:00 (noon) to 5:00 PM \nCommunity Tree Lighting 5:30 PM \nStart your holiday shopping in Historic Downtown Culpeper. You’ll find something for everyone on your gift list in one of our many specialty shops: from delicious chocolates\, unique art\, distinctive clothing\, and specialty foods to bird feeders and repurposed furniture\, plus so much more. So\, come enjoy the convenience of shopping downtown and the personal service our merchants always provide!
URL:https://piedmontvirginian.com/event/culpeper-downtown-holiday-open-house/
LOCATION:Culpeper-Historic Downtown\, Culpeper\, VA\, United States
CATEGORIES:@ Culpeper Times,@ Piedmont Virginian,@ Rappahannock News,Seasonal holidays
ATTACH;FMTTYPE=image/jpeg:https://piedmontvirginian.com/wp-content/uploads/2016/06/Holiday_logo.jpg
END:VEVENT
END:VCALENDAR