BEGIN:VCALENDAR
VERSION:2.0
PRODID:-//The Piedmont Virginian - ECPv5.3.2.1//NONSGML v1.0//EN
CALSCALE:GREGORIAN
METHOD:PUBLISH
X-WR-CALNAME:The Piedmont Virginian
X-ORIGINAL-URL:https://piedmontvirginian.com
X-WR-CALDESC:Events for The Piedmont Virginian
BEGIN:VTIMEZONE
TZID:America/New_York
BEGIN:DAYLIGHT
TZOFFSETFROM:-0500
TZOFFSETTO:-0400
TZNAME:EDT
DTSTART:20180311T070000
END:DAYLIGHT
BEGIN:STANDARD
TZOFFSETFROM:-0400
TZOFFSETTO:-0500
TZNAME:EST
DTSTART:20181104T060000
END:STANDARD
END:VTIMEZONE
BEGIN:VEVENT
DTSTART;TZID=America/New_York:20180811T200000
DTEND;TZID=America/New_York:20180811T220000
DTSTAMP:20260421T122224
CREATED:20180716T203541Z
LAST-MODIFIED:20180716T203541Z
UID:25771-1534017600-1534024800@piedmontvirginian.com
SUMMARY:Dan Navarro returns to Jammin Java with New Music
DESCRIPTION:With a career spanning decades and a dozen albums with Lowen & Navarro\, Dan Navarro has just released his first true studio-recorded solo album\, “Shed My Skin.” Navarro is perhaps best known as songwriter for artists as diverse as Jackson Browne\, The Bangles\, Keb’ Mo’ and Pat Benatar (the Grammy-nominated classic “We Belong”) to name a few. A multi-talented performer\, Dan is a singer\, a songwriter and a voice actor in major motion pictures\, television series\, & commercials. His songs are rich with insight and life experience\, delivered straight-up\, with honesty\, grace and heart\, in his moving and expressive baritone voice.
URL:https://piedmontvirginian.com/event/dan-navarro-returns-to-jammin-java-with-new-music/
LOCATION:Jammin Java\, 227 Maple Ave\, Vienna\, 22180
CATEGORIES:@ Piedmont Virginian
ATTACH;FMTTYPE=image/jpeg:https://piedmontvirginian.com/wp-content/uploads/2018/07/DN_byDJahnke_web.jpg
END:VEVENT
END:VCALENDAR