BEGIN:VCALENDAR
VERSION:2.0
PRODID:-//The Piedmont Virginian - ECPv5.3.2.1//NONSGML v1.0//EN
CALSCALE:GREGORIAN
METHOD:PUBLISH
X-WR-CALNAME:The Piedmont Virginian
X-ORIGINAL-URL:https://piedmontvirginian.com
X-WR-CALDESC:Events for The Piedmont Virginian
BEGIN:VTIMEZONE
TZID:America/New_York
BEGIN:DAYLIGHT
TZOFFSETFROM:-0500
TZOFFSETTO:-0400
TZNAME:EDT
DTSTART:20160313T070000
END:DAYLIGHT
BEGIN:STANDARD
TZOFFSETFROM:-0400
TZOFFSETTO:-0500
TZNAME:EST
DTSTART:20161106T060000
END:STANDARD
END:VTIMEZONE
BEGIN:VEVENT
DTSTART;TZID=America/New_York:20161015T190000
DTEND;TZID=America/New_York:20161015T210000
DTSTAMP:20260423T033134
CREATED:20161013T163236Z
LAST-MODIFIED:20161013T163236Z
UID:17096-1476558000-1476565200@piedmontvirginian.com
SUMMARY:Day of The Dead Dia de los Muertos
DESCRIPTION:A celebration of life is a Mexican holiday that brings together communities to remember and celebrate loved ones who have passed. Latin Ballet of Virginia will hold free public dance workshops at 1:30 p.m. for children 11 and under and one at 2:45 p.m. for ages 12 and up. Participants will learn Merengue\, Reggaeton\, Flamenco\, and typical celebratory dances. Pre-registration is encouraged but not required; contact vadunphy@gmail.com for information. Held at Eastern View High School forum at 7 p.m.
URL:https://piedmontvirginian.com/event/day-of-the-dead-dia-de-los-muertos/
LOCATION:Eastern View High School\, 16332 Cyclone Way\, Culpeper\, VA\, 22701\, United States
CATEGORIES:@ Culpeper Times,History and Heritage
END:VEVENT
END:VCALENDAR