BEGIN:VCALENDAR
VERSION:2.0
PRODID:-//The Piedmont Virginian - ECPv5.3.2.1//NONSGML v1.0//EN
CALSCALE:GREGORIAN
METHOD:PUBLISH
X-WR-CALNAME:The Piedmont Virginian
X-ORIGINAL-URL:https://piedmontvirginian.com
X-WR-CALDESC:Events for The Piedmont Virginian
BEGIN:VTIMEZONE
TZID:America/New_York
BEGIN:DAYLIGHT
TZOFFSETFROM:-0500
TZOFFSETTO:-0400
TZNAME:EDT
DTSTART:20180311T070000
END:DAYLIGHT
BEGIN:STANDARD
TZOFFSETFROM:-0400
TZOFFSETTO:-0500
TZNAME:EST
DTSTART:20181104T060000
END:STANDARD
END:VTIMEZONE
BEGIN:VEVENT
DTSTART;TZID=America/New_York:20180526T080000
DTEND;TZID=America/New_York:20180527T170000
DTSTAMP:20260421T155103
CREATED:20180507T202234Z
LAST-MODIFIED:20180507T202234Z
UID:25521-1527321600-1527440400@piedmontvirginian.com
SUMMARY:Delaplane Strawberry Festival
DESCRIPTION:Bring the whole family and enjoy a fun and festive day in the Virginia countryside at Sky Meadows State Park. Enjoy crafts\, games\, tours and much more!\nPack your own picnic or snack on festival fare and strawberry sundaes. Make a whole day of it\, and don’t forget to take home a flat of delicious fresh strawberries.\nThe festival is put on by Emmanuel Episcopal Church and proceeds fund outreach ministries within the church and grants to worthy organizations in our local community\, state and beyond.
URL:https://piedmontvirginian.com/event/delaplane-strawberry-festival-4/
LOCATION:Sky Meadows State Park\, 11012 Edmonds Lane\, Delaplane\, VA\, 20144\, United States
CATEGORIES:@ Piedmont Virginian
ATTACH;FMTTYPE=image/jpeg:https://piedmontvirginian.com/wp-content/uploads/2018/05/26816385604_f1d7b0ccb9_z.jpg
END:VEVENT
END:VCALENDAR