BEGIN:VCALENDAR
VERSION:2.0
PRODID:-//The Piedmont Virginian - ECPv5.3.2.1//NONSGML v1.0//EN
CALSCALE:GREGORIAN
METHOD:PUBLISH
X-WR-CALNAME:The Piedmont Virginian
X-ORIGINAL-URL:https://piedmontvirginian.com
X-WR-CALDESC:Events for The Piedmont Virginian
BEGIN:VTIMEZONE
TZID:America/New_York
BEGIN:DAYLIGHT
TZOFFSETFROM:-0500
TZOFFSETTO:-0400
TZNAME:EDT
DTSTART:20180311T070000
END:DAYLIGHT
BEGIN:STANDARD
TZOFFSETFROM:-0400
TZOFFSETTO:-0500
TZNAME:EST
DTSTART:20181104T060000
END:STANDARD
END:VTIMEZONE
BEGIN:VEVENT
DTSTART;TZID=America/New_York:20180527T080000
DTEND;TZID=America/New_York:20180527T110000
DTSTAMP:20260421T155144
CREATED:20180507T202212Z
LAST-MODIFIED:20180507T202212Z
UID:25523-1527408000-1527418800@piedmontvirginian.com
SUMMARY:Delaplane Strawberry Festival 5k Race/Walk
DESCRIPTION:Get rejuvenated on the trails during the Delaplane Strawberry Festival 5k race/walk. Organized by On the Run Sports\, this race is for all ages and includes prizes for overall winners and each 10-year age group\, and race t-shirts guaranteed to those registered by May 16. After the race\, all registrants and their families receive free entry to the Delaplane Strawberry Festival. Registration for runners and walkers is $25 through 11 p.m.\, May 20\, and $30 thereafter.\nArrive at 8 a.m. You must present your Active registration information at the event gates for entry. The race and walk start simultaneously at 9 a.m.\nFor more information\, and to register\, go to: https://tinyurl.com/y9h5peo5.
URL:https://piedmontvirginian.com/event/delaplane-strawberry-festival-5k-race-walk/
LOCATION:Sky Meadows State Park\, 11012 Edmonds Lane\, Delaplane\, VA\, 20144\, United States
CATEGORIES:@ Piedmont Virginian
ATTACH;FMTTYPE=image/jpeg:https://piedmontvirginian.com/wp-content/uploads/2018/05/30403856232_890947a938_z.jpg
END:VEVENT
END:VCALENDAR