BEGIN:VCALENDAR
VERSION:2.0
PRODID:-//The Piedmont Virginian - ECPv5.3.2.1//NONSGML v1.0//EN
CALSCALE:GREGORIAN
METHOD:PUBLISH
X-WR-CALNAME:The Piedmont Virginian
X-ORIGINAL-URL:https://piedmontvirginian.com
X-WR-CALDESC:Events for The Piedmont Virginian
BEGIN:VTIMEZONE
TZID:America/New_York
BEGIN:DAYLIGHT
TZOFFSETFROM:-0500
TZOFFSETTO:-0400
TZNAME:EDT
DTSTART:20180311T070000
END:DAYLIGHT
BEGIN:STANDARD
TZOFFSETFROM:-0400
TZOFFSETTO:-0500
TZNAME:EST
DTSTART:20181104T060000
END:STANDARD
END:VTIMEZONE
BEGIN:VEVENT
DTSTART;TZID=America/New_York:20180922T100000
DTEND;TZID=America/New_York:20180922T140000
DTSTAMP:20260421T103014
CREATED:20180817T145922Z
LAST-MODIFIED:20180817T145922Z
UID:25983-1537610400-1537624800@piedmontvirginian.com
SUMMARY:Dog Days
DESCRIPTION:Man’s best friend is taking over the National Museum of the Marine Corps on\nSaturday\, September 22\, 2018! \nWe are wrapping up the last day of summer with our annual “Dog Days” event. The event will include a number of activities based on the vital role dogs play in the Marine Corps as well as some activities just for fun. \nBring the kids! There will be crafts\, a gallery scavenger hunt–and the opportunity to meet the official mascot of the Corps\, Chesty the bulldog. There will also be a bulldog kissing booth. \nOutside\, on the grounds of the Museum\, visitors will have a chance to see working dogs in action and meet many different animal rescue groups. \nDogs are welcome on the grounds of Museum. Please keep dogs on a leash and use “doggie” relief area near the flag pole. \nEntrance to the Museum and parking are always FREE!
URL:https://piedmontvirginian.com/event/dog-days/
LOCATION:National Museum of the Marine Corps\, 18900 Jefferson Davis Hwy\, Triangle\, VA\, 22172\, United States
CATEGORIES:@ Piedmont Virginian
ATTACH;FMTTYPE=image/jpeg:https://piedmontvirginian.com/wp-content/uploads/2018/08/Dog-Days.jpg
END:VEVENT
END:VCALENDAR