BEGIN:VCALENDAR
VERSION:2.0
PRODID:-//The Piedmont Virginian - ECPv5.3.2.1//NONSGML v1.0//EN
CALSCALE:GREGORIAN
METHOD:PUBLISH
X-WR-CALNAME:The Piedmont Virginian
X-ORIGINAL-URL:https://piedmontvirginian.com
X-WR-CALDESC:Events for The Piedmont Virginian
BEGIN:VTIMEZONE
TZID:America/New_York
BEGIN:DAYLIGHT
TZOFFSETFROM:-0500
TZOFFSETTO:-0400
TZNAME:EDT
DTSTART:20170312T070000
END:DAYLIGHT
BEGIN:STANDARD
TZOFFSETFROM:-0400
TZOFFSETTO:-0500
TZNAME:EST
DTSTART:20171105T060000
END:STANDARD
END:VTIMEZONE
BEGIN:VEVENT
DTSTART;TZID=America/New_York:20170909T083000
DTEND;TZID=America/New_York:20170909T123000
DTSTAMP:20260421T120044
CREATED:20170907T182302Z
LAST-MODIFIED:20170907T182302Z
UID:23242-1504945800-1504960200@piedmontvirginian.com
SUMMARY:Drug Awareness and Prevention Training
DESCRIPTION:Living the Dream Foundation will host a Community Drug Awareness and Prevention Training at 8:30 a.m. at Culpeper United Methodist Church. Activities begin at 9 a.m. and lunch follows at 12:30 p.m. The barbecue lunch is $7 per person\, all proceeds go to the Living the Dream Foundation. Programs include: Naloxone opioid overdose reversal training\, Culpeper Town Police-Hidden in Plain Sight program\, Dr. Alta DeRoo\, M.D. American Board of Addiction Medicine\, Prevention  Specialist Alan Rasmussen\, R.R.C.S\, Culpeper Volunteer Rescue Squad. The event is in memory of Ben Long and for the support of individuals and families affected by substance abuse\, depression or suicide.
URL:https://piedmontvirginian.com/event/drug-awareness-and-prevention-training/
LOCATION:Culpeper United Methodist Church\, 1233 Oaklawn Drive\, Culpeper\, VA\, 22701\, United States
CATEGORIES:@ Culpeper Times
END:VEVENT
END:VCALENDAR