BEGIN:VCALENDAR
VERSION:2.0
PRODID:-//The Piedmont Virginian - ECPv5.3.2.1//NONSGML v1.0//EN
CALSCALE:GREGORIAN
METHOD:PUBLISH
X-WR-CALNAME:The Piedmont Virginian
X-ORIGINAL-URL:https://piedmontvirginian.com
X-WR-CALDESC:Events for The Piedmont Virginian
BEGIN:VTIMEZONE
TZID:America/New_York
BEGIN:DAYLIGHT
TZOFFSETFROM:-0500
TZOFFSETTO:-0400
TZNAME:EDT
DTSTART:20160313T070000
END:DAYLIGHT
BEGIN:STANDARD
TZOFFSETFROM:-0400
TZOFFSETTO:-0500
TZNAME:EST
DTSTART:20161106T060000
END:STANDARD
END:VTIMEZONE
BEGIN:VEVENT
DTSTART;TZID=America/New_York:20160903T180000
DTEND;TZID=America/New_York:20160903T190000
DTSTAMP:20260419T165440
CREATED:20160901T161050Z
LAST-MODIFIED:20160901T161050Z
UID:16238-1472925600-1472929200@piedmontvirginian.com
SUMMARY:Exhibit: Whimsical Landscapes by Robert Ballard
DESCRIPTION:Opening Date & Time:\nSaturday\, September 3 from 6:00 PM to 7:00 PM. Free Event! \nThe exhibit runs from Saturday\, September 3 – Sunday\, October 2\, 2016.\nExhibit Admission is free. Our Exhibits are open Tuesday-Saturday (Closed Mondays) from Noon to 3:00 PM as well as during concerts and by appointment.
URL:https://piedmontvirginian.com/event/exhibit-whimsical-landscapes-by-robert-ballard/
LOCATION:The Barns at Rose Hill\, 95 Chalmers Court\, Berryville\, VA\, 22611\, United States
CATEGORIES:@ Piedmont Virginian,Art
ATTACH;FMTTYPE=image/gif:https://piedmontvirginian.com/wp-content/uploads/2016/08/Horse-Farm.gif
END:VEVENT
END:VCALENDAR