BEGIN:VCALENDAR
VERSION:2.0
PRODID:-//The Piedmont Virginian - ECPv5.3.2.1//NONSGML v1.0//EN
CALSCALE:GREGORIAN
METHOD:PUBLISH
X-WR-CALNAME:The Piedmont Virginian
X-ORIGINAL-URL:https://piedmontvirginian.com
X-WR-CALDESC:Events for The Piedmont Virginian
BEGIN:VTIMEZONE
TZID:America/New_York
BEGIN:DAYLIGHT
TZOFFSETFROM:-0500
TZOFFSETTO:-0400
TZNAME:EDT
DTSTART:20180311T070000
END:DAYLIGHT
BEGIN:STANDARD
TZOFFSETFROM:-0400
TZOFFSETTO:-0500
TZNAME:EST
DTSTART:20181104T060000
END:STANDARD
END:VTIMEZONE
BEGIN:VEVENT
DTSTART;TZID=America/New_York:20180609T170000
DTEND;TZID=America/New_York:20180609T230000
DTSTAMP:20260421T154704
CREATED:20180507T202555Z
LAST-MODIFIED:20180507T202555Z
UID:25508-1528563600-1528585200@piedmontvirginian.com
SUMMARY:Fabulous Frontier Art Entertainment & Runway Show
DESCRIPTION:Seeking Stars Art (SSA) Presents “Fabulous Frontier” — Art Entertainment & Runway Show\nDoors open at 5pm – Arrive early for best Runway Show seating and VIP options\n– Meet local and international artists & designers\n– Witness a full art immersion runway show with talented runway models and performers\n– Shop handmade\, art-inspired products and support the arts\n– Watch live performances in a charming country setting\n– Enjoy light hors d’oeuvres and refreshments and…”Art party” the night away!\nTicket prices includes all food\, drinks and entertainment. VIP reserved runway seating option available. Free for children under 10.\nDress in show colors of Black and Silver\, or go all out with the galaxy theme – costumes welcome!\nAll the Fine Art on display will be available for sale in The Dairy Barn Gallery through the end of June.
URL:https://piedmontvirginian.com/event/fabulous-frontier-art-entertainment-runway-show/
LOCATION:The Dairy Barn Gallery\, 22989 Sam Fred Rd.\, Middleburg\, VA\, 20117\, United States
CATEGORIES:@ Piedmont Virginian
ATTACH;FMTTYPE=image/jpeg:https://piedmontvirginian.com/wp-content/uploads/2018/05/fabfrontiercoverflat2small.jpg
END:VEVENT
END:VCALENDAR