BEGIN:VCALENDAR
VERSION:2.0
PRODID:-//The Piedmont Virginian - ECPv5.3.2.1//NONSGML v1.0//EN
CALSCALE:GREGORIAN
METHOD:PUBLISH
X-WR-CALNAME:The Piedmont Virginian
X-ORIGINAL-URL:https://piedmontvirginian.com
X-WR-CALDESC:Events for The Piedmont Virginian
BEGIN:VTIMEZONE
TZID:America/New_York
BEGIN:DAYLIGHT
TZOFFSETFROM:-0500
TZOFFSETTO:-0400
TZNAME:EDT
DTSTART:20170312T070000
END:DAYLIGHT
BEGIN:STANDARD
TZOFFSETFROM:-0400
TZOFFSETTO:-0500
TZNAME:EST
DTSTART:20171105T060000
END:STANDARD
END:VTIMEZONE
BEGIN:VEVENT
DTSTART;TZID=America/New_York:20171028T100000
DTEND;TZID=America/New_York:20171029T170000
DTSTAMP:20260421T044838
CREATED:20170921T183647Z
LAST-MODIFIED:20170921T183647Z
UID:23307-1509184800-1509296400@piedmontvirginian.com
SUMMARY:Fall Farm Days: History of Sky Meadows
DESCRIPTION:During Fall Farm Days’ History Weekend\, step back in time and see history come to life. Stroll through the Historic Area buildings and interact with our living historians\, get a taste of hearth cooking\, watch the blacksmiths at work at the forge and take a tour of Mount Bleak House. Discover the stories of the people who shaped the landscape at this historic family farm. \nIn addition to history-themed programs\, we also offer live music\, a children’s play area\, delicious food and drinks for sale\, and\, of course\, the pick-your-own pumpkin patch.
URL:https://piedmontvirginian.com/event/fall-farm-days-history-of-sky-meadows/
LOCATION:Sky Meadows State Park\, 11012 Edmonds Lane\, Delaplane\, VA\, 20144\, United States
CATEGORIES:@ Piedmont Virginian,Family friendly,Farm and Garden,History and Heritage
ATTACH;FMTTYPE=image/jpeg:https://piedmontvirginian.com/wp-content/uploads/2017/09/15675766835_c942ff17c7_k-3.jpg
END:VEVENT
END:VCALENDAR