BEGIN:VCALENDAR
VERSION:2.0
PRODID:-//The Piedmont Virginian - ECPv5.3.2.1//NONSGML v1.0//EN
CALSCALE:GREGORIAN
METHOD:PUBLISH
X-WR-CALNAME:The Piedmont Virginian
X-ORIGINAL-URL:https://piedmontvirginian.com
X-WR-CALDESC:Events for The Piedmont Virginian
BEGIN:VTIMEZONE
TZID:America/New_York
BEGIN:DAYLIGHT
TZOFFSETFROM:-0500
TZOFFSETTO:-0400
TZNAME:EDT
DTSTART:20180311T070000
END:DAYLIGHT
BEGIN:STANDARD
TZOFFSETFROM:-0400
TZOFFSETTO:-0500
TZNAME:EST
DTSTART:20181104T060000
END:STANDARD
END:VTIMEZONE
BEGIN:VEVENT
DTSTART;TZID=America/New_York:20180811T120000
DTEND;TZID=America/New_York:20180811T150000
DTSTAMP:20260421T122603
CREATED:20180716T203426Z
LAST-MODIFIED:20180716T203426Z
UID:25812-1533988800-1533999600@piedmontvirginian.com
SUMMARY:Family Day - Awesome Aviation
DESCRIPTION:Marines first started to fly in battle during WWI. Learn about the principles of flight and try your hand at our paper airplane test strip. \nFamily Day events are open to the public and free!
URL:https://piedmontvirginian.com/event/family-day-awesome-aviation/
LOCATION:National Museum of the Marine Corps\, 18900 Jefferson Davis Hwy\, Triangle\, VA\, 22172\, United States
CATEGORIES:@ Piedmont Virginian
END:VEVENT
END:VCALENDAR