BEGIN:VCALENDAR
VERSION:2.0
PRODID:-//The Piedmont Virginian - ECPv5.3.2.1//NONSGML v1.0//EN
CALSCALE:GREGORIAN
METHOD:PUBLISH
X-WR-CALNAME:The Piedmont Virginian
X-ORIGINAL-URL:https://piedmontvirginian.com
X-WR-CALDESC:Events for The Piedmont Virginian
BEGIN:VTIMEZONE
TZID:America/New_York
BEGIN:DAYLIGHT
TZOFFSETFROM:-0500
TZOFFSETTO:-0400
TZNAME:EDT
DTSTART:20170312T070000
END:DAYLIGHT
BEGIN:STANDARD
TZOFFSETFROM:-0400
TZOFFSETTO:-0500
TZNAME:EST
DTSTART:20171105T060000
END:STANDARD
END:VTIMEZONE
BEGIN:VEVENT
DTSTART;TZID=America/New_York:20171028T183000
DTEND;TZID=America/New_York:20171028T203000
DTSTAMP:20260421T044820
CREATED:20171026T203541Z
LAST-MODIFIED:20171026T203541Z
UID:23925-1509215400-1509222600@piedmontvirginian.com
SUMMARY:Family Harvest Party
DESCRIPTION:6:30-8:30 pm. Family Community Church\, 120 Chestnut Dr\, Culpeper. Games\, Candy Prizes\, Moon Bounce\, Cake Walk for all ages. Food will be sold. Homemade soups\, Chili\, Pizza\, Nachos and Cheese\, Drinks. Costumes may be worn\, No scary costumes. Fun for all ages. For further info call 825-9511.
URL:https://piedmontvirginian.com/event/family-harvest-party/
CATEGORIES:@ Culpeper Times,Farm and Garden,Outdoor Events
END:VEVENT
END:VCALENDAR