BEGIN:VCALENDAR
VERSION:2.0
PRODID:-//The Piedmont Virginian - ECPv5.3.2.1//NONSGML v1.0//EN
CALSCALE:GREGORIAN
METHOD:PUBLISH
X-WR-CALNAME:The Piedmont Virginian
X-ORIGINAL-URL:https://piedmontvirginian.com
X-WR-CALDESC:Events for The Piedmont Virginian
BEGIN:VTIMEZONE
TZID:America/New_York
BEGIN:DAYLIGHT
TZOFFSETFROM:-0500
TZOFFSETTO:-0400
TZNAME:EDT
DTSTART:20170312T070000
END:DAYLIGHT
BEGIN:STANDARD
TZOFFSETFROM:-0400
TZOFFSETTO:-0500
TZNAME:EST
DTSTART:20171105T060000
END:STANDARD
END:VTIMEZONE
BEGIN:VEVENT
DTSTART;TZID=America/New_York:20170918T190000
DTEND;TZID=America/New_York:20170918T210000
DTSTAMP:20260421T141838
CREATED:20170913T155217Z
LAST-MODIFIED:20170913T155217Z
UID:23319-1505761200-1505768400@piedmontvirginian.com
SUMMARY:FFRW Meeting
DESCRIPTION:The Founding Fathers Republican Committee (FFRW) will hold their monthly meeting Monday\, September 18th\, at 7:00 PM in the parish hall of St. Stephen’s Episcopal Church\, 115 N. East Street\, Culpeper\, VA.  Our guest speaker will be Blaine Pardoe.\nBlaine Pardoe is an award winning New York Times bestselling author who lives in Amissville Virginia. He is the author of numerous science fiction\, military history\, true crime\, horror\, and business leadership books. He is considered one of America’s best writers about the Great War.  For more information please visit our website at www.FFRWculpeper.com or email us at FFRWinformation@gmail.com.
URL:https://piedmontvirginian.com/event/ffrw-meeting-7/
LOCATION:St. Stephen’s Episcopal Church\, 115 N. East St.\, Culpeper\, VA\, 22701\, United States
CATEGORIES:@ Culpeper Times,Meetup
END:VEVENT
END:VCALENDAR