BEGIN:VCALENDAR
VERSION:2.0
PRODID:-//The Piedmont Virginian - ECPv5.3.2.1//NONSGML v1.0//EN
CALSCALE:GREGORIAN
METHOD:PUBLISH
X-WR-CALNAME:The Piedmont Virginian
X-ORIGINAL-URL:https://piedmontvirginian.com
X-WR-CALDESC:Events for The Piedmont Virginian
BEGIN:VTIMEZONE
TZID:America/New_York
BEGIN:DAYLIGHT
TZOFFSETFROM:-0500
TZOFFSETTO:-0400
TZNAME:EDT
DTSTART:20170312T070000
END:DAYLIGHT
BEGIN:STANDARD
TZOFFSETFROM:-0400
TZOFFSETTO:-0500
TZNAME:EST
DTSTART:20171105T060000
END:STANDARD
END:VTIMEZONE
BEGIN:VEVENT
DTSTART;TZID=America/New_York:20170825T193000
DTEND;TZID=America/New_York:20170825T213000
DTSTAMP:20260421T061110
CREATED:20170823T170647Z
LAST-MODIFIED:20170823T170647Z
UID:22693-1503689400-1503696600@piedmontvirginian.com
SUMMARY:Film: “Allegheny Uprising”
DESCRIPTION:(RKO\, 1939) Set in in the days before the American Revolution\, local settlers and Indian fighters in Pennsylvania&#39;s\nAllegheny Valley try to persuade the British authorities to ban the trading of alcohol and arms with the\nmarauding Indians. Released eight months after “Stagecoach\,” this was the second pairing of the stars of\nthat film\, John Wayne and Claire Trevor. William A. Seiter directed this historical adventure based on a\ntrue incident. The supporting cast includes Brian Donlevy as a crooked trader and George Sanders as a\ntyrannical British captain. The 35mm film print being shown was made by the Library of Congress Film\nPreservation Lab in 2016. Free\, at the Library of Congress Packard Campus Theater located at 19053\nMt. Pony Rd. in Culpeper\, VA. No reservations required. For more information\, call 202-707- 9994.
URL:https://piedmontvirginian.com/event/film-allegheny-uprising/
LOCATION:Library of Congress Packard Campus Theater\, 19053 Mt. Pony Rd.\, Culpeper\, VA\, 22701\, United States
CATEGORIES:@ Culpeper Times
END:VEVENT
END:VCALENDAR