BEGIN:VCALENDAR
VERSION:2.0
PRODID:-//The Piedmont Virginian - ECPv5.3.2.1//NONSGML v1.0//EN
CALSCALE:GREGORIAN
METHOD:PUBLISH
X-WR-CALNAME:The Piedmont Virginian
X-ORIGINAL-URL:https://piedmontvirginian.com
X-WR-CALDESC:Events for The Piedmont Virginian
BEGIN:VTIMEZONE
TZID:America/New_York
BEGIN:DAYLIGHT
TZOFFSETFROM:-0500
TZOFFSETTO:-0400
TZNAME:EDT
DTSTART:20170312T070000
END:DAYLIGHT
BEGIN:STANDARD
TZOFFSETFROM:-0400
TZOFFSETTO:-0500
TZNAME:EST
DTSTART:20171105T060000
END:STANDARD
END:VTIMEZONE
BEGIN:VEVENT
DTSTART;TZID=America/New_York:20171103T193000
DTEND;TZID=America/New_York:20171103T213000
DTSTAMP:20260419T133352
CREATED:20171102T174029Z
LAST-MODIFIED:20171102T174029Z
UID:24045-1509737400-1509744600@piedmontvirginian.com
SUMMARY:Film: “Hud”
DESCRIPTION:(Paramount\, 1963) Paul Newman received his third Academy Award nomination for his portrayal of the title character; the surly and unscrupulous son of a Texas rancher who locks horns with his father over business and family matters. Loosely based on Larry McMurtry’s debut novel\, “Horseman\, Pass By\,” the film received a total of seven Oscar nominations winning three including Best Cinematography for James Wong Howe. “Hud” will be introduced by John Bailey\, ASC. A member of the Library of Congress’ National Film Board\, John is an award-winning cinematographer whose films range from “American Gigolo\,” “Groundhog Day” and “Mishima: A Life in Four Chapters” to this year’s “How to Be a Latin Lover.” In October\, he was elected as President of the Academy of Motion Picture Arts and Sciences. Free\, at the Library of Congress Packard Campus Theater located at 19053 Mt. Pony Rd. in Culpeper\, VA. No reservations taken.
URL:https://piedmontvirginian.com/event/film-hud/
LOCATION:Library of Congress Packard Campus Theater\, 19053 Mt. Pony Rd.\, Culpeper\, VA\, 22701\, United States
CATEGORIES:@ Culpeper Times
END:VEVENT
END:VCALENDAR