BEGIN:VCALENDAR
VERSION:2.0
PRODID:-//The Piedmont Virginian - ECPv5.3.2.1//NONSGML v1.0//EN
CALSCALE:GREGORIAN
METHOD:PUBLISH
X-WR-CALNAME:The Piedmont Virginian
X-ORIGINAL-URL:https://piedmontvirginian.com
X-WR-CALDESC:Events for The Piedmont Virginian
BEGIN:VTIMEZONE
TZID:America/New_York
BEGIN:DAYLIGHT
TZOFFSETFROM:-0500
TZOFFSETTO:-0400
TZNAME:EDT
DTSTART:20170312T070000
END:DAYLIGHT
BEGIN:STANDARD
TZOFFSETFROM:-0400
TZOFFSETTO:-0500
TZNAME:EST
DTSTART:20171105T060000
END:STANDARD
END:VTIMEZONE
BEGIN:VEVENT
DTSTART;TZID=America/New_York:20170811T193000
DTEND;TZID=America/New_York:20170811T213000
DTSTAMP:20260421T173937
CREATED:20170809T165416Z
LAST-MODIFIED:20170809T165416Z
UID:22551-1502479800-1502487000@piedmontvirginian.com
SUMMARY:Film: “Malta Story”
DESCRIPTION:(United Artists\, 1953) Alec Guinness stars as RAF photographer Flight Lt. Peter Ross with Jack Hawkins as his commanding officer in this British drama based on the heroic air defense of Malta during the Siege of Malta (June 1940 – November 1942) during the Second World War. The idea for the production came from Britain’s Central Office of Information\, who wished to exemplify the co-operation between the three branches of the armed services during the War. Director Brian Desmond Hurst shot much of the picture in Malta with aircraft used during the Siege that was still operational\, some of which did not exist elsewhere. The incorporation of impressive stock footage also contributed to the authenticity of the film. 7:30 p.m. Free\, at the Library of Congress Packard Campus Theater located at 19053 Mt. Pony Rd. in Culpeper\, VA. No reservations required. For more information\, call 202-707-9994.
URL:https://piedmontvirginian.com/event/film-malta-story/
LOCATION:Library of Congress Packard Campus Theater\, 19053 Mt. Pony Rd.\, Culpeper\, VA\, 22701\, United States
CATEGORIES:@ Culpeper Times
END:VEVENT
END:VCALENDAR