BEGIN:VCALENDAR
VERSION:2.0
PRODID:-//The Piedmont Virginian - ECPv5.3.2.1//NONSGML v1.0//EN
CALSCALE:GREGORIAN
METHOD:PUBLISH
X-WR-CALNAME:The Piedmont Virginian
X-ORIGINAL-URL:https://piedmontvirginian.com
X-WR-CALDESC:Events for The Piedmont Virginian
BEGIN:VTIMEZONE
TZID:America/New_York
BEGIN:DAYLIGHT
TZOFFSETFROM:-0500
TZOFFSETTO:-0400
TZNAME:EDT
DTSTART:20170312T070000
END:DAYLIGHT
BEGIN:STANDARD
TZOFFSETFROM:-0400
TZOFFSETTO:-0500
TZNAME:EST
DTSTART:20171105T060000
END:STANDARD
END:VTIMEZONE
BEGIN:VEVENT
DTSTART;TZID=America/New_York:20170601T193000
DTEND;TZID=America/New_York:20170601T210000
DTSTAMP:20260419T133559
CREATED:20170601T172621Z
LAST-MODIFIED:20170601T172621Z
UID:21273-1496345400-1496350800@piedmontvirginian.com
SUMMARY:Film: The Best of Shindig
DESCRIPTION:(ABC-TV\, 1964-1966) ABC’s musical variety series “Shindig!” offered the best from American and British performers of the day.  Artists included on this program of highlights from the show include The Beatles\, The Byrds\, The Rolling Stones\, James Brown\, The Beach Boys\, The Supremes\, The Everly Brothers\, Jerry Lee Lewis\, Tina Turner\, The Who\, The Kinks\, Marvin Gaye\, The Four Tops\, Jackie Wilson\, The Animals\, Bo Diddley\, Sam Cooke\, Donovan\, The Yardbirds\, The Ronettes\, Billy Preston\, The Mamas and the Papas\, The Hollies\, The Zombies\, Leon Russell\, Sir Douglas Quintet\, The Kingsmen\, and The McCoys. \nBlack & white\, 120 min. Starts at 7:30 p.m.  Free\, at the Library of Congress Packard Campus Theater located at 19053 Mt. Pony Rd. in Culpeper\, VA. No reservations required. For more information\, call 202-707-9994.
URL:https://piedmontvirginian.com/event/film-the-best-of-shindig/
LOCATION:Library of Congress Packard Campus Theater\, 19053 Mt. Pony Rd.\, Culpeper\, VA\, 22701\, United States
CATEGORIES:@ Culpeper Times
END:VEVENT
END:VCALENDAR