BEGIN:VCALENDAR
VERSION:2.0
PRODID:-//The Piedmont Virginian - ECPv5.3.2.1//NONSGML v1.0//EN
CALSCALE:GREGORIAN
METHOD:PUBLISH
X-WR-CALNAME:The Piedmont Virginian
X-ORIGINAL-URL:https://piedmontvirginian.com
X-WR-CALDESC:Events for The Piedmont Virginian
BEGIN:VTIMEZONE
TZID:America/New_York
BEGIN:DAYLIGHT
TZOFFSETFROM:-0500
TZOFFSETTO:-0400
TZNAME:EDT
DTSTART:20170312T070000
END:DAYLIGHT
BEGIN:STANDARD
TZOFFSETFROM:-0400
TZOFFSETTO:-0500
TZNAME:EST
DTSTART:20171105T060000
END:STANDARD
END:VTIMEZONE
BEGIN:VEVENT
DTSTART;TZID=America/New_York:20170720T193000
DTEND;TZID=America/New_York:20170720T213000
DTSTAMP:20260419T103756
CREATED:20170719T210136Z
LAST-MODIFIED:20170719T210136Z
UID:22268-1500579000-1500586200@piedmontvirginian.com
SUMMARY:Film: “The Graduate”
DESCRIPTION:(Embassy Pictures\, 1967) Director Mike Nichols and screenwriter Buck Henry concocted a funny and satirical look at a certain slice of Americana and the generation gap that pervaded the era of the 1960s. The coming-of-age story stars Dustin Hoffman as the clueless college graduate Benjamin Braddock\, Anne Bancroft as the worldly Mrs. Robinson and Katharine Ross as her innocent daughter Elaine. “The Graduate” won the Academy Award for Best Director for Nichols and was nominated in six other categories. It was added to the National Film Registry in 1996. 7: 30 p.m. Free\, at the Library of Congress Packard Campus Theater located at 19053 Mt. Pony Rd. in Culpeper\, VA. No reservations required. For more information\, call 202-707-9994. \n 
URL:https://piedmontvirginian.com/event/film-the-graduate-2/
LOCATION:Library of Congress Packard Campus Theater\, 19053 Mt. Pony Rd.\, Culpeper\, VA\, 22701\, United States
CATEGORIES:@ Culpeper Times
END:VEVENT
END:VCALENDAR