BEGIN:VCALENDAR
VERSION:2.0
PRODID:-//The Piedmont Virginian - ECPv5.3.2.1//NONSGML v1.0//EN
CALSCALE:GREGORIAN
METHOD:PUBLISH
X-WR-CALNAME:The Piedmont Virginian
X-ORIGINAL-URL:https://piedmontvirginian.com
X-WR-CALDESC:Events for The Piedmont Virginian
BEGIN:VTIMEZONE
TZID:America/New_York
BEGIN:DAYLIGHT
TZOFFSETFROM:-0500
TZOFFSETTO:-0400
TZNAME:EDT
DTSTART:20170312T070000
END:DAYLIGHT
BEGIN:STANDARD
TZOFFSETFROM:-0400
TZOFFSETTO:-0500
TZNAME:EST
DTSTART:20171105T060000
END:STANDARD
END:VTIMEZONE
BEGIN:VEVENT
DTSTART;TZID=America/New_York:20170909T140000
DTEND;TZID=America/New_York:20170909T160000
DTSTAMP:20260421T103449
CREATED:20170907T183318Z
LAST-MODIFIED:20170907T183318Z
UID:23246-1504965600-1504972800@piedmontvirginian.com
SUMMARY:Film: “The Lion King”
DESCRIPTION:(Disney\, 1994)  A young lion cub hides from his colony after being blamed for his father’s death\, but triumphantly returns when he realizes it his destiny to be King. The animated Disney feature won two Academy Awards: for its original score by Hans Zimmer and for the song “Can You Feel the Love Tonight” by composer Elton John and lyricist Tim Rice. Directed by Roger Allers and Rob Minkoff\, and featuring the voices of Matthew Broderick\, Jeremy Irons\, James Earl Jones and Jonathan Taylor Thomas\, it is the highest-grossing animated film of the 20th century. “The Lion King” was added to the National Film Registry in 2016. The film was added to the National Film Registry in 2011. 2 p.m. Free\, at the Library of Congress Packard Campus Theater located at 19053 Mt. Pony Rd. in Culpeper\, VA. No reservations required. For more information\, call 202-707-9994.
URL:https://piedmontvirginian.com/event/film-the-lion-king/
LOCATION:Library of Congress Packard Campus Theater\, 19053 Mt. Pony Rd.\, Culpeper\, VA\, 22701\, United States
CATEGORIES:@ Culpeper Times
END:VEVENT
END:VCALENDAR