BEGIN:VCALENDAR
VERSION:2.0
PRODID:-//The Piedmont Virginian - ECPv5.3.2.1//NONSGML v1.0//EN
CALSCALE:GREGORIAN
METHOD:PUBLISH
X-WR-CALNAME:The Piedmont Virginian
X-ORIGINAL-URL:https://piedmontvirginian.com
X-WR-CALDESC:Events for The Piedmont Virginian
BEGIN:VTIMEZONE
TZID:America/New_York
BEGIN:DAYLIGHT
TZOFFSETFROM:-0500
TZOFFSETTO:-0400
TZNAME:EDT
DTSTART:20170312T070000
END:DAYLIGHT
BEGIN:STANDARD
TZOFFSETFROM:-0400
TZOFFSETTO:-0500
TZNAME:EST
DTSTART:20171105T060000
END:STANDARD
END:VTIMEZONE
BEGIN:VEVENT
DTSTART;TZID=America/New_York:20170805T193000
DTEND;TZID=America/New_York:20170805T220000
DTSTAMP:20260421T192123
CREATED:20170803T173425Z
LAST-MODIFIED:20170803T173425Z
UID:22495-1501961400-1501970400@piedmontvirginian.com
SUMMARY:Film: “The Night of the Hunter”
DESCRIPTION:(United Artists\, 1955)  In his sole directorial endeavor\, British actor Charles Laughton creates a poetic and unusual parable of greed\, corruption\, and redemption in this dark allegory of good versus evil. Robert Mitchum stars as Harry Powell\, a deranged\, self-appointed preacher who terrorizes two children to learn the hiding place of some stolen money while romancing their widowed mother (Shelley Winters). He meets his match in Rachel Cooper (Lillian Gish)\, a saintly protector of runaway and abandoned children. A combination of delicate grace and steely resolve\, Gish had an almost Victorian purity that was perfect for the part. Priased for its stunning imagery from renowned cinematographer Stanley Cortez\, “The Night of the Hunter” was added to the National Film Registry in 1992. 7:30 p.m. Free\, at the Library of Congress Packard Campus Theater located at 19053 Mt. Pony Rd. in Culpeper\, VA. No reservations required. For more information\, call 202-707-9994.
URL:https://piedmontvirginian.com/event/film-the-night-of-the-hunter/
LOCATION:Library of Congress Packard Campus Theater\, 19053 Mt. Pony Rd.\, Culpeper\, VA\, 22701\, United States
CATEGORIES:@ Culpeper Times
END:VEVENT
END:VCALENDAR