BEGIN:VCALENDAR
VERSION:2.0
PRODID:-//The Piedmont Virginian - ECPv5.3.2.1//NONSGML v1.0//EN
CALSCALE:GREGORIAN
METHOD:PUBLISH
X-WR-CALNAME:The Piedmont Virginian
X-ORIGINAL-URL:https://piedmontvirginian.com
X-WR-CALDESC:Events for The Piedmont Virginian
BEGIN:VTIMEZONE
TZID:America/New_York
BEGIN:DAYLIGHT
TZOFFSETFROM:-0500
TZOFFSETTO:-0400
TZNAME:EDT
DTSTART:20170312T070000
END:DAYLIGHT
BEGIN:STANDARD
TZOFFSETFROM:-0400
TZOFFSETTO:-0500
TZNAME:EST
DTSTART:20171105T060000
END:STANDARD
END:VTIMEZONE
BEGIN:VEVENT
DTSTART;TZID=America/New_York:20170908T193000
DTEND;TZID=America/New_York:20170908T210000
DTSTAMP:20260421T090110
CREATED:20170907T180811Z
LAST-MODIFIED:20170907T180811Z
UID:23189-1504899000-1504904400@piedmontvirginian.com
SUMMARY:Film: “Two-Lane Blacktop”
DESCRIPTION:(Universal\, 1971– R-rated *)  In the late 1960s\, following the success of such youth-oriented fare as “Easy Rider\,” Hollywood executives greenlighted a spate of innovative\, low-budget films by young filmmakers influenced by European directors like Robert Bresson and Michelangelo Antonioni. One such film was the minimalist “Two-Lane Blacktop\,” which follows two “gearheads” (singer-songwriter James Taylor and Beach Boys drummer Dennis Wilson) in their souped-up ’55 Chevy as they’re challenged to a cross-country race by a middle-aged driver (Warren Oates) in a Pontiac GTO. The leisurely pace set by director Monte Hellman and screenwriter Rudolph Wurlitzer bathes audiences in spare landscapes and car culture rituals that engender a myth of freedom promised by life on the road. “Two-Lane Blacktop” was added to the National Film Registry in 2012. 7:30 p.m. Free\, at the Library of Congress Packard Campus Theater located at 19053 Mt. Pony Rd. in Culpeper\, VA. No reservations required. For more information\, call 202-707-9994. *No one under the age of 17 will be admitted without a parent or guardian.
URL:https://piedmontvirginian.com/event/film-two-lane-blacktop/
LOCATION:Library of Congress Packard Campus Theater\, 19053 Mt. Pony Rd.\, Culpeper\, VA\, 22701\, United States
CATEGORIES:@ Culpeper Times
END:VEVENT
END:VCALENDAR