BEGIN:VCALENDAR
VERSION:2.0
PRODID:-//The Piedmont Virginian - ECPv5.3.2.1//NONSGML v1.0//EN
CALSCALE:GREGORIAN
METHOD:PUBLISH
X-WR-CALNAME:The Piedmont Virginian
X-ORIGINAL-URL:https://piedmontvirginian.com
X-WR-CALDESC:Events for The Piedmont Virginian
BEGIN:VTIMEZONE
TZID:America/New_York
BEGIN:DAYLIGHT
TZOFFSETFROM:-0500
TZOFFSETTO:-0400
TZNAME:EDT
DTSTART:20170312T070000
END:DAYLIGHT
BEGIN:STANDARD
TZOFFSETFROM:-0400
TZOFFSETTO:-0500
TZNAME:EST
DTSTART:20171105T060000
END:STANDARD
END:VTIMEZONE
BEGIN:VEVENT
DTSTART;TZID=America/New_York:20171013T193000
DTEND;TZID=America/New_York:20171013T213000
DTSTAMP:20260419T083452
CREATED:20171005T171017Z
LAST-MODIFIED:20171005T171017Z
UID:23676-1507923000-1507930200@piedmontvirginian.com
SUMMARY:Film: “White Heat”
DESCRIPTION:(Warner Bros.\, 1949) This pulsating gangster film was directed by Raoul Walsh and stars James Cagney as a mother-obsessed\, psychopathic gangster exiting the world with the legendary “Made it\, Ma. Top of the world” ending. One of the toughest and most brilliant crime films ever made\, “White Heat” marked a breakthrough in the explicitly psychological depiction of screen bad guys. The film was added to the National Film Registry in 2003. Free\, at the Library of Congress Packard Campus Theater located at 19053 Mt. Pony Rd. in Culpeper\, VA. No reservations required. Begins at 7:30 p.m. 
URL:https://piedmontvirginian.com/event/film-white-heat/
LOCATION:Library of Congress Packard Campus Theater\, 19053 Mt. Pony Rd.\, Culpeper\, VA\, 22701\, United States
CATEGORIES:@ Culpeper Times
END:VEVENT
END:VCALENDAR