BEGIN:VCALENDAR
VERSION:2.0
PRODID:-//The Piedmont Virginian - ECPv5.3.2.1//NONSGML v1.0//EN
CALSCALE:GREGORIAN
METHOD:PUBLISH
X-WR-CALNAME:The Piedmont Virginian
X-ORIGINAL-URL:https://piedmontvirginian.com
X-WR-CALDESC:Events for The Piedmont Virginian
BEGIN:VTIMEZONE
TZID:America/New_York
BEGIN:DAYLIGHT
TZOFFSETFROM:-0500
TZOFFSETTO:-0400
TZNAME:EDT
DTSTART:20180311T070000
END:DAYLIGHT
BEGIN:STANDARD
TZOFFSETFROM:-0400
TZOFFSETTO:-0500
TZNAME:EST
DTSTART:20181104T060000
END:STANDARD
END:VTIMEZONE
BEGIN:VEVENT
DTSTART;TZID=America/New_York:20180701T163000
DTEND;TZID=America/New_York:20180731T000000
DTSTAMP:20260421T140449
CREATED:20180426T165633Z
LAST-MODIFIED:20180426T165633Z
UID:25440-1530462600-1532995200@piedmontvirginian.com
SUMMARY:"Fresh Ideas" painting exhibit at Random Row Brewery Co.
DESCRIPTION:Judith Ely’s painting exhibit “Fresh Ideas” is on display July 1-31 at Random Row Brewery at 608 Preston Avenue A\, Charlottesville\,Va 22903. (434) 284-8466 Hours are M-Th 4:30-11\,F 4:30-12\,Sat 12:00-12\, Sun 12:00-9. There will be a reception on Saturday\, July 7\, 5:00-7:00 PM which is open to the public. \nJudith is a free spirited contemporary painter. She has dug deep to learn new ideas and\, as a result\, has developed a very unique style stressing value and design. Judith loves the creative aspect of painting loosely and applying many layers to the canvas.
URL:https://piedmontvirginian.com/event/fresh-ideas-painting-exhibit-at-random-row-brewery-co/
CATEGORIES:@ Piedmont Virginian
ATTACH;FMTTYPE=image/jpeg:https://piedmontvirginian.com/wp-content/uploads/2018/04/The-Famlily-Home.jpg
END:VEVENT
END:VCALENDAR