BEGIN:VCALENDAR
VERSION:2.0
PRODID:-//The Piedmont Virginian - ECPv5.3.2.1//NONSGML v1.0//EN
CALSCALE:GREGORIAN
METHOD:PUBLISH
X-WR-CALNAME:The Piedmont Virginian
X-ORIGINAL-URL:https://piedmontvirginian.com
X-WR-CALDESC:Events for The Piedmont Virginian
BEGIN:VTIMEZONE
TZID:America/New_York
BEGIN:DAYLIGHT
TZOFFSETFROM:-0500
TZOFFSETTO:-0400
TZNAME:EDT
DTSTART:20160313T070000
END:DAYLIGHT
BEGIN:STANDARD
TZOFFSETFROM:-0400
TZOFFSETTO:-0500
TZNAME:EST
DTSTART:20161106T060000
END:STANDARD
END:VTIMEZONE
BEGIN:VEVENT
DTSTART;TZID=America/New_York:20160924T090000
DTEND;TZID=America/New_York:20160924T140000
DTSTAMP:20260419T172455
CREATED:20160908T202553Z
LAST-MODIFIED:20160908T202553Z
UID:16468-1474707600-1474725600@piedmontvirginian.com
SUMMARY:Friends of the Culpeper County Library Fundraiser annual pansy and mum sale
DESCRIPTION:Curbside at the Culpeper County Library located at 271 Southgate Shopping Center. Starts at 9 a.m. until sold out. Contact 540-825-8691. Visit www.cclva.org  \n 
URL:https://piedmontvirginian.com/event/friends-of-the-culpeper-county-library-fundraiser-annual-pansy-and-mum-sale/
LOCATION:Culpeper County Library\, 271 Southgate Shopping Center\, Culpeper\, VA\, 22701\, United States
CATEGORIES:@ Culpeper Times
END:VEVENT
END:VCALENDAR