BEGIN:VCALENDAR
VERSION:2.0
PRODID:-//The Piedmont Virginian - ECPv5.3.2.1//NONSGML v1.0//EN
CALSCALE:GREGORIAN
METHOD:PUBLISH
X-WR-CALNAME:The Piedmont Virginian
X-ORIGINAL-URL:https://piedmontvirginian.com
X-WR-CALDESC:Events for The Piedmont Virginian
BEGIN:VTIMEZONE
TZID:America/New_York
BEGIN:DAYLIGHT
TZOFFSETFROM:-0500
TZOFFSETTO:-0400
TZNAME:EDT
DTSTART:20170312T070000
END:DAYLIGHT
BEGIN:STANDARD
TZOFFSETFROM:-0400
TZOFFSETTO:-0500
TZNAME:EST
DTSTART:20171105T060000
END:STANDARD
END:VTIMEZONE
BEGIN:VEVENT
DTSTART;TZID=America/New_York:20171019T093000
DTEND;TZID=America/New_York:20171019T173000
DTSTAMP:20260421T104030
CREATED:20171019T174434Z
LAST-MODIFIED:20171019T174434Z
UID:23814-1508405400-1508434200@piedmontvirginian.com
SUMMARY:Full Circle Thrift 15th Anniversary
DESCRIPTION:Full Circle Thrift will be celebrating its 15th anniversary from 9:30 a.m. to 5:30 p.m. Everyone invited to stop in and celebrate with us. Knakals cake\, beverages\, door prizes\, and a special anniversary sale (30% off all store items-40% off for seniors and military).
URL:https://piedmontvirginian.com/event/full-circle-thrift-15th-anniversary/
CATEGORIES:@ Culpeper Times
END:VEVENT
END:VCALENDAR